BEGIN:VCALENDAR
VERSION:2.0
PRODID:-//Visit Libby - ECPv6.15.20//NONSGML v1.0//EN
CALSCALE:GREGORIAN
METHOD:PUBLISH
X-WR-CALNAME:Visit Libby
X-ORIGINAL-URL:https://www.visitlibby.org
X-WR-CALDESC:Events for Visit Libby
REFRESH-INTERVAL;VALUE=DURATION:PT1H
X-Robots-Tag:noindex
X-PUBLISHED-TTL:PT1H
BEGIN:VTIMEZONE
TZID:UTC
BEGIN:STANDARD
TZOFFSETFROM:+0000
TZOFFSETTO:+0000
TZNAME:UTC
DTSTART:20240101T000000
END:STANDARD
END:VTIMEZONE
BEGIN:VTIMEZONE
TZID:America/Denver
BEGIN:DAYLIGHT
TZOFFSETFROM:-0700
TZOFFSETTO:-0600
TZNAME:MDT
DTSTART:20240310T090000
END:DAYLIGHT
BEGIN:STANDARD
TZOFFSETFROM:-0600
TZOFFSETTO:-0700
TZNAME:MST
DTSTART:20241103T080000
END:STANDARD
BEGIN:DAYLIGHT
TZOFFSETFROM:-0700
TZOFFSETTO:-0600
TZNAME:MDT
DTSTART:20250309T090000
END:DAYLIGHT
BEGIN:STANDARD
TZOFFSETFROM:-0600
TZOFFSETTO:-0700
TZNAME:MST
DTSTART:20251102T080000
END:STANDARD
BEGIN:DAYLIGHT
TZOFFSETFROM:-0700
TZOFFSETTO:-0600
TZNAME:MDT
DTSTART:20260308T090000
END:DAYLIGHT
BEGIN:STANDARD
TZOFFSETFROM:-0600
TZOFFSETTO:-0700
TZNAME:MST
DTSTART:20261101T080000
END:STANDARD
END:VTIMEZONE
BEGIN:VEVENT
DTSTART;TZID=UTC:20260411T120000
DTEND;TZID=UTC:20260411T180000
DTSTAMP:20260419T204159
CREATED:20260220T200233Z
LAST-MODIFIED:20260223T222649Z
UID:10000799-1775908800-1775930400@www.visitlibby.org
SUMMARY:406 Bash!
DESCRIPTION:Because Montana deserves its own holiday. \nJoin us on Saturday\, April 11\, 2026 from 12–6 PM on Mineral Avenue in Libby as we celebrate all things 406! This hometown celebration is all about Montana pride\, local flavor\, and spending the afternoon with great people. \nEnjoy drink specials\, live music\, and plenty of Montana vibes as downtown Mineral Ave comes alive. Whether you’re rocking your flannel\, your favorite local merch\, or just your best 406 attitude\, this is the place to be. \nExpect good friends\, cold drinks\, local businesses\, and a whole lot of community spirit. Let’s celebrate the 406 the right way — together. \nSee you on Mineral Ave!
URL:https://www.visitlibby.org/event/406-day-celebration/
LOCATION:Downtown Libby – Mineral Avenue\, Libby\, MT\, United States
CATEGORIES:Festivals & Celebrations
ATTACH;FMTTYPE=image/jpeg:https://www.visitlibby.org/wp-content/uploads/2026/02/406bash-e1771885392119.jpg
GEO:48.388933;-115.444786
END:VEVENT
BEGIN:VEVENT
DTSTART;TZID=UTC:20251031T160000
DTEND;TZID=UTC:20251031T180000
DTSTAMP:20260419T204159
CREATED:20250922T203555Z
LAST-MODIFIED:20250922T203555Z
UID:10000253-1761926400-1761933600@www.visitlibby.org
SUMMARY:Rotary Trunk or Treat
DESCRIPTION:Rotary is excited to invite you to participate in this year’s Trunk or Treat! This year\, Rotary is moving the event to a new location\, right in the heart of Mineral Ave\, from Lincoln Blvd to the end of The Gut. It promises to be a fun-filled evening for the whole community!\n\n\n\n\n\nHow to Sign Up:\n\n\n– Comment on this post\, private message the page or contact any Rotarian to reserve your space.\n\n\n– Set up your trunk starting at 3:30 PM and be ready by 4pm on the day of the event.\n\n\n– Get ready to hand out treats\, enjoy the fun\, and be part of a memorable community event!
URL:https://www.visitlibby.org/event/rotary-trunk-or-treat/
LOCATION:Downtown Libby – Mineral Avenue\, Libby\, MT\, United States
CATEGORIES:Family Events,Festivals & Celebrations
ATTACH;FMTTYPE=image/jpeg:https://www.visitlibby.org/wp-content/uploads/2025/09/549243422_1187735513387890_477001207478190181_n-e1758573126421.jpg
ORGANIZER;CN="Rotary Club of the Kootenai Valley":MAILTO:rotarylibby@gmail.com
GEO:48.388933;-115.444786
END:VEVENT
BEGIN:VEVENT
DTSTART;TZID=UTC:20250911T180000
DTEND;TZID=UTC:20250911T200000
DTSTAMP:20260419T204159
CREATED:20250820T215444Z
LAST-MODIFIED:20250820T220116Z
UID:10000232-1757613600-1757620800@www.visitlibby.org
SUMMARY:Libby Nights
DESCRIPTION:Downtown Libby is bringing back community connection with a brand-new monthly event series on Mineral Avenue! Join us for Libby Nights\, held the second Thursday of each month from June through November 2025. This family-friendly evening highlights our local businesses and offers residents a fun reason to gather downtown.
URL:https://www.visitlibby.org/event/libby-nights/
LOCATION:Downtown Libby – Mineral Avenue\, Libby\, MT\, United States
CATEGORIES:Entertainment,Sale
ATTACH;FMTTYPE=image/jpeg:https://www.visitlibby.org/wp-content/uploads/2025/08/511388616_122109195284907404_6623566980884319477_n-e1755726852899.jpg
GEO:48.388933;-115.444786
END:VEVENT
BEGIN:VEVENT
DTSTART;VALUE=DATE:20250904
DTEND;VALUE=DATE:20250908
DTSTAMP:20260419T204159
CREATED:20250620T034730Z
LAST-MODIFIED:20250627T121011Z
UID:10000119-1756944000-1757289599@www.visitlibby.org
SUMMARY:Clash of the Carvers
DESCRIPTION:The Clash of the Carvers is an International Chainsaw Carving Championship that hosts 20 carving artists for four whole days. Artists start with a bare log on Thursday at 8am.\nLocals and tourists are invited to come watch these artists put their blood\, sweat\, and tears into their craft… and make sure to come back on Sunday at 2pm to see who takes the grand prize!\nGet a break from all the buzz down at the brand new (and free) Loggin’ Littles Carnival at the end of Mineral Ave(Depot Park)! You’ll be able to find a shady place to eat\, throw some axes\, shop local.. and you can even cool off by volunteering to be dunked in our dunk tank!\nClap along to some live local bands at The Keep during lunch\, and have yourself a blast! Clash of the Carvers is one of the biggest events in Lincoln County\, so stop in and get your wallets ready\, because this event has carved a spot in our hearts forever!\nIn loving memory of Paul Bunn\nSee the full schedule here.
URL:https://www.visitlibby.org/event/clash-of-the-carvers/
LOCATION:Downtown Libby – Mineral Avenue\, Libby\, MT\, United States
CATEGORIES:Entertainment,Festivals & Celebrations
ATTACH;FMTTYPE=image/jpeg:https://www.visitlibby.org/wp-content/uploads/2025/06/481284937_1136052421649432_8002302141655935937_n-e1741297893424-1HUEC9.tmp_.jpg
GEO:48.388933;-115.444786
END:VEVENT
BEGIN:VEVENT
DTSTART;VALUE=DATE:20250814
DTEND;VALUE=DATE:20250817
DTSTAMP:20260419T204159
CREATED:20250710T183122Z
LAST-MODIFIED:20250710T183122Z
UID:10000157-1755129600-1755388799@www.visitlibby.org
SUMMARY:Ignite the Nites Car Show
DESCRIPTION:Thursday\, August 14\, 2025 \n\nHigh Stakes Poker Run with 100% payout. 4:00pm – 8:00pm. Register and start at the Mint Bar located at 110 Mineral Avenue and end at the Switchback Bar & Grill located at 485 Hwy 2 West.\n\nFriday\, August 15\, 2025 \n\nCar Show and Cruise Registration. 2:00pm – 7:30pm. Igniters registration table on Mineral Avenue.\nFriday Night Cruise. 6:00pm – 9:00pm. Mineral Avenue.\nNeon Lights & Flame Throwers. 9:00pm. Mineral Avenue in front of First Montana Bank.\n\nFriday Night Cruise Rules \n\nREGISTRATION WILL CLOSE AT 7:30PM SHARP. No late entries for the Friday night cruise after the 7:30pm registration deadline.\nNO BURNOUTS\, NO EXCESSIVE SPEED\, NO EXCEPTIONS! We appreciate horsepower as much as anyone\, but a crowded Mineral Avenue is not the safest place to do this. If you choose to lay down some rubber\, you will be immediately disqualified and ejected from the cruise entirely.\nOPEN CONTAINERS OF ALCOHOL are strictly prohibited in cars that are cruising.\n\n\nWe recognize that cruising has been an important part of our car show and more importantly\, our heritage. To honor this tradition\, we have implemented changes with one goal in mind – for this to be a fun\, safe\, family-friendly community event where we can all enjoy cruising and spending the evening along Mineral Avenue. In order for this to be a successful event and for future Friday night cruises to be considered\, we need everyone’s cooperation to make sure all rules are followed and everyone stays safe.\nSaturday\, August 16\, 2025 \n\nCar Show Registration. 8:00am – 12:00pm. Igniters registration table on Mineral Avenue.\nCar Show. 9:00am – 3:00pm. Mineral Avenue.\n50’s Pin-Up Girl\, RockaBilly Dude\, and RockaBetty Girl costume contests. 1:00pm. Register at DJ’s booth on 6th Street next to The Dome Theater and Stytches Bent West.\nAwards Ceremony and Pedal Car Drawing. 3:00pm. Mineral Avenue.\nRon Remp Memorial Burnout Contest. 5:00pm. Millpond Motocross Park. Park entrance via Fishpond Road on Hwy 2 South. Access across Hwy 2 from Saverite South Service Station.\nClosing Ceremony and Live Music. Immediately following the Burnout Contest. Mineral Avenue.\n\nIgnite the Nites Events and Car Show Etiquette \n\nNO PETS ALLOWED. No pets are allowed downtown during any of the Ignite the Nites events.\nNO MOTORIZED/WHEELED DEVICES. No bicycles\, skateboards\, hoverboards\, roller skates\, rollerblades or other similar motorized/wheeled devices are allowed.
URL:https://www.visitlibby.org/event/ignite-the-nites-car-show/
LOCATION:Downtown Libby – Mineral Avenue\, Libby\, MT\, United States
CATEGORIES:Entertainment,Festivals & Celebrations
ATTACH;FMTTYPE=image/jpeg:https://www.visitlibby.org/wp-content/uploads/2025/04/Events-Ignite-the-Nites-Car-Show-Larger-Ad-1-1-e1771542226960.jpg
GEO:48.388933;-115.444786
END:VEVENT
END:VCALENDAR