BEGIN:VCALENDAR
VERSION:2.0
PRODID:-//Visit Libby - ECPv6.15.20//NONSGML v1.0//EN
CALSCALE:GREGORIAN
METHOD:PUBLISH
X-WR-CALNAME:Visit Libby
X-ORIGINAL-URL:https://www.visitlibby.org
X-WR-CALDESC:Events for Visit Libby
REFRESH-INTERVAL;VALUE=DURATION:PT1H
X-Robots-Tag:noindex
X-PUBLISHED-TTL:PT1H
BEGIN:VTIMEZONE
TZID:UTC
BEGIN:STANDARD
TZOFFSETFROM:+0000
TZOFFSETTO:+0000
TZNAME:UTC
DTSTART:20240101T000000
END:STANDARD
END:VTIMEZONE
BEGIN:VEVENT
DTSTART;VALUE=DATE:20250913
DTEND;VALUE=DATE:20250914
DTSTAMP:20260424T094844
CREATED:20250730T211803Z
LAST-MODIFIED:20250801T210950Z
UID:10000162-1757721600-1757807999@www.visitlibby.org
SUMMARY:Circle Swede Gravel Ride
DESCRIPTION:Gravel. Mountains. Community.Challenge yourself for a cause on this scenic loop through Libby’s forested valleys\, gravel paths\, and hearty climbs. Choose your route (35 or 65 miles)\, enjoy rider support\, and celebrate post-ride with live music\, food trucks\, and drinks — all while supporting local parks and Kootenai Pets for Life. \nWhat’s Included: \n\n\nCommemorative mug & drink voucher (register by 8/16!) \n\n\nLive music & post-ride celebration \n\n\nTimed ride results \n\n\nAccess to fully stocked aid stations \n\n\nEntry to beer garden & food truck court \n\n\nCamping: \nCamping is available at J. Neils Park for a fee: $15 for Saturday night only\, or $25 for Friday and Saturday \n\nBathrooms and portable toilets on-site\nQuiet hours begin at 10 PM each night\nNo hookups – dry camping only\n\nDogs:Leashed dogs welcome at park and campsites (not on course). \n💥 Ride for a Cause:Proceeds support Libby Parks & Recreation\, with 20% donated to Kootenai Pets for Life. \nDay-of registration is not guaranteed. Register by August 17 to save! \n– 35-mile ride: $75 early / $90 after 8/17\n– 65-mile ride: $125 early / $140 after 8/17
URL:https://www.visitlibby.org/event/circle-swede-gravel-ride/
LOCATION:J Neils Park\, 1301 MT-37\, Libby\, MT\, 59923\, United States
CATEGORIES:Sports & Recreation
ATTACH;FMTTYPE=image/jpeg:https://www.visitlibby.org/wp-content/uploads/2025/07/circleswedegravelride-e1753910248743.jpg
END:VEVENT
END:VCALENDAR