BEGIN:VCALENDAR
VERSION:2.0
PRODID:-//Visit Libby - ECPv6.15.20//NONSGML v1.0//EN
CALSCALE:GREGORIAN
METHOD:PUBLISH
X-ORIGINAL-URL:https://www.visitlibby.org
X-WR-CALDESC:Events for Visit Libby
REFRESH-INTERVAL;VALUE=DURATION:PT1H
X-Robots-Tag:noindex
X-PUBLISHED-TTL:PT1H
BEGIN:VTIMEZONE
TZID:UTC
BEGIN:STANDARD
TZOFFSETFROM:+0000
TZOFFSETTO:+0000
TZNAME:UTC
DTSTART:20250101T000000
END:STANDARD
END:VTIMEZONE
BEGIN:VEVENT
DTSTART;TZID=UTC:20260422T080000
DTEND;TZID=UTC:20260422T140000
DTSTAMP:20260420T100146
CREATED:20260312T192655Z
LAST-MODIFIED:20260312T192655Z
UID:10000832-1776844800-1776866400@www.visitlibby.org
SUMMARY:Workforce Expo 2026
DESCRIPTION:
URL:https://www.visitlibby.org/event/workforce-expo-2026/
LOCATION:Memorial Event Center\, 111 E Lincoln Blvd\, Libby\, 59923\, United States
CATEGORIES:Education
ATTACH;FMTTYPE=image/jpeg:https://www.visitlibby.org/wp-content/uploads/2026/03/workforce-expo-e1773343573515.jpg
ORGANIZER;CN="Job Services":MAILTO:libbyJSC@mt.gov
END:VEVENT
BEGIN:VEVENT
DTSTART;VALUE=DATE:20260424
DTEND;VALUE=DATE:20260425
DTSTAMP:20260420T100146
CREATED:20260226T192303Z
LAST-MODIFIED:20260226T201346Z
UID:10000821-1776988800-1777075199@www.visitlibby.org
SUMMARY:Evening with the Vintner | Wine & Charcuterie
DESCRIPTION:Join Glacier International Lodge for another unforgettable Wine Tasting Event — an all-inclusive getaway designed for relaxation\, flavor\, and fun. This special package includes comfortable lodging\, curated wine tastings\, delicious food\, and live music to complete the experience. \nWhether you’re planning a weekend escape with friends or a romantic retreat\, this event offers everything you need in one seamless package. \nSingle occupancy rate: $185 \nCome sip\, savor\, and enjoy an evening (or weekend) of great company\, great wine\, and great atmosphere. \nFor reservations and additional details\, please contact the event host directly.
URL:https://www.visitlibby.org/event/evening-with-wine-charcuterie/
LOCATION:Glacier International Lodge\, 4150 US Hwy 2 East\, Kalispell\, 59923\, United States
ATTACH;FMTTYPE=image/jpeg:https://www.visitlibby.org/wp-content/uploads/2026/02/04d02123-acaf-4f57-854b-7b0aaf53fc8d-1-e1772135078815.jpg
END:VEVENT
BEGIN:VEVENT
DTSTART;TZID=UTC:20260430T140000
DTEND;TZID=UTC:20260430T183000
DTSTAMP:20260420T100146
CREATED:20260413T175155Z
LAST-MODIFIED:20260413T175155Z
UID:10000838-1777557600-1777573800@www.visitlibby.org
SUMMARY:Hoot Owl Farm: Plant Palooza
DESCRIPTION:On Thursday we’ll have a few other vendors with Spring/Garden related items\, field demos\, farm tours\, and garden related workshops. We’ll have a large selection of plants for sale and farm fresh produce. Curly Girl Flowers\, McLaury Apiaries and Camp Creek Coffee Roasters will be there and each will be doing a short presentation. On Saturday\, we’ll have our plant sale continuing as well as farm tours. The River Bend Restaurant across the street will have Spring Specials so it’s a great time to make your way out Hwy. 37 for a Plant Palooza!
URL:https://www.visitlibby.org/event/hoot-owl-farm-plant-palooza/
LOCATION:Hoot Owl Farm
CATEGORIES:Arts & Classes,Education,Family Events,Sale
ATTACH;FMTTYPE=image/png:https://www.visitlibby.org/wp-content/uploads/2026/04/plant-e1776102633980.png
END:VEVENT
END:VCALENDAR