BEGIN:VCALENDAR
VERSION:2.0
PRODID:-//Visit Libby - ECPv6.15.20//NONSGML v1.0//EN
CALSCALE:GREGORIAN
METHOD:PUBLISH
X-WR-CALNAME:Visit Libby
X-ORIGINAL-URL:https://www.visitlibby.org
X-WR-CALDESC:Events for Visit Libby
REFRESH-INTERVAL;VALUE=DURATION:PT1H
X-Robots-Tag:noindex
X-PUBLISHED-TTL:PT1H
BEGIN:VTIMEZONE
TZID:UTC
BEGIN:STANDARD
TZOFFSETFROM:+0000
TZOFFSETTO:+0000
TZNAME:UTC
DTSTART:20240101T000000
END:STANDARD
END:VTIMEZONE
BEGIN:VEVENT
DTSTART;TZID=UTC:20251024T170000
DTEND;TZID=UTC:20251024T190000
DTSTAMP:20260425T152308
CREATED:20251007T213530Z
LAST-MODIFIED:20251007T213530Z
UID:10000668-1761325200-1761332400@www.visitlibby.org
SUMMARY:KVCS Spaghetti Dinner Fundraiser
DESCRIPTION:KVCS is excited to announce our annual Spaghetti Dinner Fundraiser. This year we are grateful to announce that KVCS has received a matching grant. For every $1.00 raised from the Spaghetti Dinner Fundraiser it will be matched with $2.00 up to $11\,000! \n\nJoin us and enjoy a night of fellowship\, dinner\, dessert auction\, 50/50 raffle\, and an entertaining slideshow. \n\nTickets are available for $10 per person. \n\nCan’t join us for the Spaghetti Dinner? Visit our website to find more ways to support KVCS.
URL:https://www.visitlibby.org/event/kvcs-spaghetti-dinner-fundraiser/
LOCATION:Kootenai Valley Christian School\, 1024 Montana Ave\, Libby\, MT\, 59923\, United States
CATEGORIES:Fundraisers
ATTACH;FMTTYPE=image/png:https://www.visitlibby.org/wp-content/uploads/2025/10/Screenshot-2025-10-07-153424-e1759872895512.png
END:VEVENT
BEGIN:VEVENT
DTSTART;TZID=UTC:20251023T190000
DTEND;TZID=UTC:20251023T210000
DTSTAMP:20260425T152308
CREATED:20251010T215644Z
LAST-MODIFIED:20251010T215644Z
UID:10000735-1761246000-1761253200@www.visitlibby.org
SUMMARY:Trivia Night at RWBs
DESCRIPTION:Join the Brews Crew Thursdays for an interesting\, obscure\, or little-known facts and information\, fun filled quiz. Our Trivia can cover a wide range of topics\, such as history\, science\, sports\, music\, movies\, literature\, and more. It’s a fun way to learn new things\, challenge oneself\, or entertain others with surprising and often quirky facts.
URL:https://www.visitlibby.org/event/trivia-night-at-rwbs/2025-10-23/
LOCATION:Red\, White\, & Brews
CATEGORIES:Entertainment
ATTACH;FMTTYPE=image/png:https://www.visitlibby.org/wp-content/uploads/2025/04/rwb-MT-logo-e1743116515917-3uF6Z3.tmp_-e1760132675615.png
END:VEVENT
BEGIN:VEVENT
DTSTART;TZID=UTC:20251023T160000
DTEND;TZID=UTC:20251023T170000
DTSTAMP:20260425T152308
CREATED:20251007T211633Z
LAST-MODIFIED:20251007T211633Z
UID:10000637-1761235200-1761238800@www.visitlibby.org
SUMMARY:Pumpkin Painting Party
DESCRIPTION:At our pumpkin painting party\, you’ll be able to express all of your creative ambitions! Paint and acrylic pens will be provided. You may bring your own pumpkin\, but a limited supply of pumpkins will be provided!
URL:https://www.visitlibby.org/event/pumpkin-painting-party/
LOCATION:Lincoln County Library – Libby
CATEGORIES:Arts & Classes,Entertainment,Family Events
ATTACH;FMTTYPE=image/jpeg:https://www.visitlibby.org/wp-content/uploads/2025/10/556011842_1263701715794636_6002342369614190176_n-e1759871765666.jpg
END:VEVENT
BEGIN:VEVENT
DTSTART;TZID=UTC:20251022T110000
DTEND;TZID=UTC:20251022T120000
DTSTAMP:20260425T152308
CREATED:20251007T211210Z
LAST-MODIFIED:20251007T211210Z
UID:10000635-1761130800-1761134400@www.visitlibby.org
SUMMARY:Books and Banter Book Club
DESCRIPTION:Gather at Libby Library for this month’s book club! On October 22nd\, at 11 am\, we will be discussing “Go as a River” by Shelley Read.
URL:https://www.visitlibby.org/event/books-and-banter-book-club/
LOCATION:Lincoln County Library – Libby
CATEGORIES:Arts & Classes,Entertainment
ATTACH;FMTTYPE=image/jpeg:https://www.visitlibby.org/wp-content/uploads/2025/10/booksandbanter-e1759871511594.jpg
END:VEVENT
BEGIN:VEVENT
DTSTART;TZID=UTC:20251021T190000
DTEND;TZID=UTC:20251021T210000
DTSTAMP:20260425T152308
CREATED:20251010T212426Z
LAST-MODIFIED:20251010T212426Z
UID:10000681-1761073200-1761080400@www.visitlibby.org
SUMMARY:Libby City Candidate Forum
DESCRIPTION:Join the Libby Area Chamber for the Libby City Candidate Forum\, an evening of community conversation and civic engagement. \n\nThis event gives voters the opportunity to hear directly from the City Council and Mayoral candidates ahead of the upcoming election. Each candidate will have the chance to introduce themselves and respond to questions about their priorities\, goals\, and vision for Libby’s future. \n\nThe forum will be hosted and moderated by Chamber board member\, Bruce Vincent. \n\nThis event is FREE and OPEN to the public\, all community members are encouraged to attend and take part in learning more about the candidates who seek to represent them.
URL:https://www.visitlibby.org/event/libby-city-candidate-forum/
LOCATION:W. K. Maki Theater\, 724 Louisiana Ave.\, Libby\, MT\, 59923
CATEGORIES:Chamber Events
ATTACH;FMTTYPE=image/png:https://www.visitlibby.org/wp-content/uploads/2025/10/Libby-City-Candidate-Forum-1-e1760131414156.png
ORGANIZER;CN="Libby Area Chamber of Commerce":MAILTO:info@libbychamber.org
END:VEVENT
BEGIN:VEVENT
DTSTART;TZID=UTC:20251021T180000
DTEND;TZID=UTC:20251021T193000
DTSTAMP:20260425T152308
CREATED:20251007T212151Z
LAST-MODIFIED:20251007T212151Z
UID:10000640-1761069600-1761075000@www.visitlibby.org
SUMMARY:Taproom Trivia at the Brewery
DESCRIPTION:Test your knowledge of the mundane while enjoying handcrafted beer in Libby’s living room. Nightly and season-ending prizes.  Teams of 1-5. \nIt’s the best thing going on Tuesday night!
URL:https://www.visitlibby.org/event/taproom-trivia-at-the-brewery/2025-10-21/
LOCATION:Cabinet Mountain Brewing\, 2 Ave C\, Libby\, MT\, United States
CATEGORIES:Entertainment
ATTACH;FMTTYPE=image/png:https://www.visitlibby.org/wp-content/uploads/2025/05/cabinetmt-bn9Zku.tmp_.png
GEO:48.390406;-115.577054
X-APPLE-STRUCTURED-LOCATION;VALUE=URI;X-ADDRESS=Cabinet Mountain Brewing 2 Ave C Libby MT United States;X-APPLE-RADIUS=500;X-TITLE=2 Ave C:geo:-115.577054,48.390406
END:VEVENT
BEGIN:VEVENT
DTSTART;TZID=UTC:20251020T190000
DTEND;TZID=UTC:20251020T210000
DTSTAMP:20260425T152308
CREATED:20251007T215717Z
LAST-MODIFIED:20251010T213604Z
UID:10000679-1760986800-1760994000@www.visitlibby.org
SUMMARY:Showing at the Dome: Tron: Ares
DESCRIPTION:A highly sophisticated Program\, Ares\, is sent from the digital world into the real world on a dangerous mission. \nRated PG-13
URL:https://www.visitlibby.org/event/showing-at-the-dome-tron-ares/2025-10-20/
LOCATION:Dome Theater\, 602 Mineral Ave.\, Libby\, MT\, 59923
ATTACH;FMTTYPE=image/jpeg:https://www.visitlibby.org/wp-content/uploads/2025/10/tron-e1760131727951.jpg
END:VEVENT
BEGIN:VEVENT
DTSTART;TZID=UTC:20251020T083000
DTEND;TZID=UTC:20251020T103000
DTSTAMP:20260425T152308
CREATED:20251002T201408Z
LAST-MODIFIED:20251002T201408Z
UID:10000257-1760949000-1760956200@www.visitlibby.org
SUMMARY:Montana West Economic Development: Startup Track
DESCRIPTION:Start strong. Build smart. Secure your foundation. This track gives founders a concrete plan\, real-world market proof\, early operational discipline\, and financial clarity to make sound decisions and earn support from banks and investors \nWriting a Business Plan: Oct 20 2025 \nMarket Validation: Nov 17 2025 \nOperational Excellence: Dec 15 2025 \nFinancial Forecasting: Jan 19 2026 \nFunding Foundations: Feb 16 2026
URL:https://www.visitlibby.org/event/montana-west-economic-development-startup-track/
LOCATION:Montana West Economic Development\, 44 2nd Ave W.\, Kalispell\, MT\, United States
CATEGORIES:Education
ATTACH;FMTTYPE=image/png:https://www.visitlibby.org/wp-content/uploads/2025/10/IMG_2659.png
END:VEVENT
BEGIN:VEVENT
DTSTART;TZID=UTC:20251019T150000
DTEND;TZID=UTC:20251019T170000
DTSTAMP:20260425T152308
CREATED:20251007T215717Z
LAST-MODIFIED:20251010T213604Z
UID:10000678-1760886000-1760893200@www.visitlibby.org
SUMMARY:Showing at the Dome: Tron: Ares
DESCRIPTION:A highly sophisticated Program\, Ares\, is sent from the digital world into the real world on a dangerous mission. \nRated PG-13
URL:https://www.visitlibby.org/event/showing-at-the-dome-tron-ares/2025-10-19/
LOCATION:Dome Theater\, 602 Mineral Ave.\, Libby\, MT\, 59923
ATTACH;FMTTYPE=image/jpeg:https://www.visitlibby.org/wp-content/uploads/2025/10/tron-e1760131727951.jpg
END:VEVENT
BEGIN:VEVENT
DTSTART;TZID=UTC:20251018T190000
DTEND;TZID=UTC:20251018T210000
DTSTAMP:20260425T152308
CREATED:20251007T215717Z
LAST-MODIFIED:20251010T213604Z
UID:10000677-1760814000-1760821200@www.visitlibby.org
SUMMARY:Showing at the Dome: Tron: Ares
DESCRIPTION:A highly sophisticated Program\, Ares\, is sent from the digital world into the real world on a dangerous mission. \nRated PG-13
URL:https://www.visitlibby.org/event/showing-at-the-dome-tron-ares/2025-10-18/
LOCATION:Dome Theater\, 602 Mineral Ave.\, Libby\, MT\, 59923
ATTACH;FMTTYPE=image/jpeg:https://www.visitlibby.org/wp-content/uploads/2025/10/tron-e1760131727951.jpg
END:VEVENT
BEGIN:VEVENT
DTSTART;TZID=UTC:20251018T090000
DTEND;TZID=UTC:20251018T170000
DTSTAMP:20260425T152308
CREATED:20250929T182445Z
LAST-MODIFIED:20251010T214827Z
UID:10000255-1760778000-1760806800@www.visitlibby.org
SUMMARY:Paint It Pink 5K & 10K Fun Run/Walk
DESCRIPTION:Pull out your neon and leg warmers for this 80’s themed run (or walk). There will be music\, bubbles\, and a photo booth to keep the fun going whether you’re racing or just enjoying the morning.\n\n\nSign up today and help keep these Paint It Pink traditions strong in our community!! \n\n\n\nRegister Here: https://payments.fasthealth.com/web_cpmc3_mt/forms/..
URL:https://www.visitlibby.org/event/paint-it-pink/
LOCATION:Cabinet Peaks Medical Center
CATEGORIES:Fundraisers,Sports & Recreation
ATTACH;FMTTYPE=image/jpeg:https://www.visitlibby.org/wp-content/uploads/2025/09/IMG_2657-e1760132736263.jpeg
END:VEVENT
BEGIN:VEVENT
DTSTART;TZID=UTC:20251017T190000
DTEND;TZID=UTC:20251017T210000
DTSTAMP:20260425T152308
CREATED:20251007T215717Z
LAST-MODIFIED:20251010T213604Z
UID:10000676-1760727600-1760734800@www.visitlibby.org
SUMMARY:Showing at the Dome: Tron: Ares
DESCRIPTION:A highly sophisticated Program\, Ares\, is sent from the digital world into the real world on a dangerous mission. \nRated PG-13
URL:https://www.visitlibby.org/event/showing-at-the-dome-tron-ares/2025-10-17/
LOCATION:Dome Theater\, 602 Mineral Ave.\, Libby\, MT\, 59923
ATTACH;FMTTYPE=image/jpeg:https://www.visitlibby.org/wp-content/uploads/2025/10/tron-e1760131727951.jpg
END:VEVENT
BEGIN:VEVENT
DTSTART;TZID=UTC:20251017T180000
DTEND;TZID=UTC:20251017T210000
DTSTAMP:20260425T152308
CREATED:20251007T212614Z
LAST-MODIFIED:20251007T212614Z
UID:10000665-1760724000-1760734800@www.visitlibby.org
SUMMARY:Dose Live at the Brewery
DESCRIPTION:Get your dose of good tunes with this fantastic local duo\, right in the comfort of Libby’s Living Room!
URL:https://www.visitlibby.org/event/dose-live-at-the-brewery/
LOCATION:Cabinet Mountain Brewing\, 2 Ave C\, Libby\, MT\, United States
CATEGORIES:Entertainment
ATTACH;FMTTYPE=image/png:https://www.visitlibby.org/wp-content/uploads/2025/05/cabinetmt-bn9Zku.tmp_.png
GEO:48.390406;-115.577054
X-APPLE-STRUCTURED-LOCATION;VALUE=URI;X-ADDRESS=Cabinet Mountain Brewing 2 Ave C Libby MT United States;X-APPLE-RADIUS=500;X-TITLE=2 Ave C:geo:-115.577054,48.390406
END:VEVENT
BEGIN:VEVENT
DTSTART;TZID=UTC:20251016T190000
DTEND;TZID=UTC:20251016T210000
DTSTAMP:20260425T152308
CREATED:20251010T215644Z
LAST-MODIFIED:20251010T215644Z
UID:10000734-1760641200-1760648400@www.visitlibby.org
SUMMARY:Trivia Night at RWBs
DESCRIPTION:Join the Brews Crew Thursdays for an interesting\, obscure\, or little-known facts and information\, fun filled quiz. Our Trivia can cover a wide range of topics\, such as history\, science\, sports\, music\, movies\, literature\, and more. It’s a fun way to learn new things\, challenge oneself\, or entertain others with surprising and often quirky facts.
URL:https://www.visitlibby.org/event/trivia-night-at-rwbs/2025-10-16/
LOCATION:Red\, White\, & Brews
CATEGORIES:Entertainment
ATTACH;FMTTYPE=image/png:https://www.visitlibby.org/wp-content/uploads/2025/04/rwb-MT-logo-e1743116515917-3uF6Z3.tmp_-e1760132675615.png
END:VEVENT
BEGIN:VEVENT
DTSTART;TZID=UTC:20251016T160000
DTEND;TZID=UTC:20251016T170000
DTSTAMP:20260425T152309
CREATED:20251007T211410Z
LAST-MODIFIED:20251007T211410Z
UID:10000636-1760630400-1760634000@www.visitlibby.org
SUMMARY:Collage Hour at the Library
DESCRIPTION:Enjoy the wonderful art of cutting and gluing with Libby Library’s collage hour! Thursday\, October 16th\, at 4 pm.
URL:https://www.visitlibby.org/event/collage-hour-at-the-library/
LOCATION:Lincoln County Library – Libby
CATEGORIES:Arts & Classes,Entertainment
ATTACH;FMTTYPE=image/jpeg:https://www.visitlibby.org/wp-content/uploads/2025/10/558344248_1263587639139377_7014855859034570557_n-e1759871624357.jpg
END:VEVENT
BEGIN:VEVENT
DTSTART;TZID=UTC:20251015T110000
DTEND;TZID=UTC:20251015T120000
DTSTAMP:20260425T152309
CREATED:20251007T210937Z
LAST-MODIFIED:20251010T214040Z
UID:10000634-1760526000-1760529600@www.visitlibby.org
SUMMARY:Shelf Indulgence: An UnBook Club
DESCRIPTION:A book club with a lot less commitment. Gather on Wednesday\, October 15th\, at 11 am\, to have a casual chat of what everyone’s been reading lately. Great for book recommendations and meeting like-minded book lovers!
URL:https://www.visitlibby.org/event/shelf-indulgence-an-unbook-club/
LOCATION:Lincoln County Library – Libby
CATEGORIES:Arts & Classes,Education,Entertainment
ATTACH;FMTTYPE=image/jpeg:https://www.visitlibby.org/wp-content/uploads/2025/10/anunbookclub-e1760132435544.jpg
END:VEVENT
BEGIN:VEVENT
DTSTART;TZID=UTC:20251014T180000
DTEND;TZID=UTC:20251014T193000
DTSTAMP:20260425T152309
CREATED:20251007T212151Z
LAST-MODIFIED:20251007T212151Z
UID:10000639-1760464800-1760470200@www.visitlibby.org
SUMMARY:Taproom Trivia at the Brewery
DESCRIPTION:Test your knowledge of the mundane while enjoying handcrafted beer in Libby’s living room. Nightly and season-ending prizes.  Teams of 1-5. \nIt’s the best thing going on Tuesday night!
URL:https://www.visitlibby.org/event/taproom-trivia-at-the-brewery/2025-10-14/
LOCATION:Cabinet Mountain Brewing\, 2 Ave C\, Libby\, MT\, United States
CATEGORIES:Entertainment
ATTACH;FMTTYPE=image/png:https://www.visitlibby.org/wp-content/uploads/2025/05/cabinetmt-bn9Zku.tmp_.png
GEO:48.390406;-115.577054
X-APPLE-STRUCTURED-LOCATION;VALUE=URI;X-ADDRESS=Cabinet Mountain Brewing 2 Ave C Libby MT United States;X-APPLE-RADIUS=500;X-TITLE=2 Ave C:geo:-115.577054,48.390406
END:VEVENT
BEGIN:VEVENT
DTSTART;TZID=UTC:20251013T190000
DTEND;TZID=UTC:20251013T210000
DTSTAMP:20260425T152309
CREATED:20251007T215717Z
LAST-MODIFIED:20251010T213604Z
UID:10000675-1760382000-1760389200@www.visitlibby.org
SUMMARY:Showing at the Dome: Tron: Ares
DESCRIPTION:A highly sophisticated Program\, Ares\, is sent from the digital world into the real world on a dangerous mission. \nRated PG-13
URL:https://www.visitlibby.org/event/showing-at-the-dome-tron-ares/2025-10-13/
LOCATION:Dome Theater\, 602 Mineral Ave.\, Libby\, MT\, 59923
ATTACH;FMTTYPE=image/jpeg:https://www.visitlibby.org/wp-content/uploads/2025/10/tron-e1760131727951.jpg
END:VEVENT
BEGIN:VEVENT
DTSTART;TZID=UTC:20251012T150000
DTEND;TZID=UTC:20251012T170000
DTSTAMP:20260425T152309
CREATED:20251007T215717Z
LAST-MODIFIED:20251010T213604Z
UID:10000674-1760281200-1760288400@www.visitlibby.org
SUMMARY:Showing at the Dome: Tron: Ares
DESCRIPTION:A highly sophisticated Program\, Ares\, is sent from the digital world into the real world on a dangerous mission. \nRated PG-13
URL:https://www.visitlibby.org/event/showing-at-the-dome-tron-ares/2025-10-12/
LOCATION:Dome Theater\, 602 Mineral Ave.\, Libby\, MT\, 59923
ATTACH;FMTTYPE=image/jpeg:https://www.visitlibby.org/wp-content/uploads/2025/10/tron-e1760131727951.jpg
END:VEVENT
BEGIN:VEVENT
DTSTART;TZID=UTC:20251011T190000
DTEND;TZID=UTC:20251011T210000
DTSTAMP:20260425T152309
CREATED:20251007T215717Z
LAST-MODIFIED:20251010T213604Z
UID:10000673-1760209200-1760216400@www.visitlibby.org
SUMMARY:Showing at the Dome: Tron: Ares
DESCRIPTION:A highly sophisticated Program\, Ares\, is sent from the digital world into the real world on a dangerous mission. \nRated PG-13
URL:https://www.visitlibby.org/event/showing-at-the-dome-tron-ares/2025-10-11/
LOCATION:Dome Theater\, 602 Mineral Ave.\, Libby\, MT\, 59923
ATTACH;FMTTYPE=image/jpeg:https://www.visitlibby.org/wp-content/uploads/2025/10/tron-e1760131727951.jpg
END:VEVENT
BEGIN:VEVENT
DTSTART;TZID=UTC:20251011T170000
DTEND;TZID=UTC:20251011T200000
DTSTAMP:20260425T152309
CREATED:20250929T184328Z
LAST-MODIFIED:20251010T215023Z
UID:10000256-1760202000-1760212800@www.visitlibby.org
SUMMARY:Paint It Pink Bingo
DESCRIPTION:This isn’t your typical bingo night – it’s Disco Bingo! A lively costume contest\, cash prizes\, a cash bar\, and plenty of decadent desserts and charcuterie boards. Grab your friends and make it a night out!
URL:https://www.visitlibby.org/event/paint-it-pink-bingo/
LOCATION:Memorial Event Center\, 111 E Lincoln Blvd\, Libby\, 59923\, United States
CATEGORIES:Fundraisers
ATTACH;FMTTYPE=image/jpeg:https://www.visitlibby.org/wp-content/uploads/2025/09/IMG_2658-e1760132315545.jpeg
END:VEVENT
BEGIN:VEVENT
DTSTART;TZID=UTC:20251010T190000
DTEND;TZID=UTC:20251010T210000
DTSTAMP:20260425T152309
CREATED:20251007T215717Z
LAST-MODIFIED:20251010T213604Z
UID:10000672-1760122800-1760130000@www.visitlibby.org
SUMMARY:Showing at the Dome: Tron: Ares
DESCRIPTION:A highly sophisticated Program\, Ares\, is sent from the digital world into the real world on a dangerous mission. \nRated PG-13
URL:https://www.visitlibby.org/event/showing-at-the-dome-tron-ares/2025-10-10/
LOCATION:Dome Theater\, 602 Mineral Ave.\, Libby\, MT\, 59923
ATTACH;FMTTYPE=image/jpeg:https://www.visitlibby.org/wp-content/uploads/2025/10/tron-e1760131727951.jpg
END:VEVENT
BEGIN:VEVENT
DTSTART;TZID=UTC:20251010T180000
DTEND;TZID=UTC:20251010T210000
DTSTAMP:20260425T152309
CREATED:20251007T212357Z
LAST-MODIFIED:20251007T212357Z
UID:10000664-1760119200-1760130000@www.visitlibby.org
SUMMARY:Larry Hirshberg Live at the Brewery
DESCRIPTION:Enjoy live music by Larry Hirshberg right in the comfort of Libby’s Living Room!
URL:https://www.visitlibby.org/event/larry-hirshberg-live-at-the-brewery/
LOCATION:Cabinet Mountain Brewing\, 2 Ave C\, Libby\, MT\, United States
CATEGORIES:Entertainment
ATTACH;FMTTYPE=image/png:https://www.visitlibby.org/wp-content/uploads/2025/05/cabinetmt-bn9Zku.tmp_.png
GEO:48.390406;-115.577054
X-APPLE-STRUCTURED-LOCATION;VALUE=URI;X-ADDRESS=Cabinet Mountain Brewing 2 Ave C Libby MT United States;X-APPLE-RADIUS=500;X-TITLE=2 Ave C:geo:-115.577054,48.390406
END:VEVENT
BEGIN:VEVENT
DTSTART;TZID=UTC:20251010T150000
DTEND;TZID=UTC:20251010T180000
DTSTAMP:20260425T152309
CREATED:20251006T180338Z
LAST-MODIFIED:20251006T180338Z
UID:10000262-1760108400-1760119200@www.visitlibby.org
SUMMARY:Community Car Seat Safety Check Event
DESCRIPTION:Learn about child passenger safety and infant sleep safety. \nGet your current car seat evaluated. \nNew\, safe car seats and cribs will be available for those in need. \n  \nMake an appointment at safestartnw.org or text CHECK to 844.619.2048
URL:https://www.visitlibby.org/event/community-car-seat-safety-check-event/
LOCATION:Fireman’s Park\, Libby\, MT\, United States
CATEGORIES:Education
ATTACH;FMTTYPE=image/jpeg:https://www.visitlibby.org/wp-content/uploads/2025/10/large-REO-Libby-10-10-2025-2.jpg
END:VEVENT
BEGIN:VEVENT
DTSTART;TZID=UTC:20251009T190000
DTEND;TZID=UTC:20251009T210000
DTSTAMP:20260425T152309
CREATED:20251007T215247Z
LAST-MODIFIED:20251007T215247Z
UID:10000671-1760036400-1760043600@www.visitlibby.org
SUMMARY:Showing at the Dome: Clown II
DESCRIPTION:Seeking a fresh start\, a troubled young woman moves in with her eccentric aunt in a seemingly sleepy small town—only to find that the locals have unusual interest in her family’s past. As she delves deeper\, the body count rises. \nThis dark horror-comedy sequel/sendup to the 2006 film\, examines inherited secrets\, cultish clowns\, and the fine line between laughter and terror! Filmed entirely in Lincoln County\, MT. \nRated R | 17+ \n\nPurchase Tickets Here
URL:https://www.visitlibby.org/event/showing-at-the-dome-clown-ii/
LOCATION:Dome Theater\, 602 Mineral Ave.\, Libby\, MT\, 59923
CATEGORIES:Entertainment
ATTACH;FMTTYPE=image/jpeg:https://www.visitlibby.org/wp-content/uploads/2025/10/bc4c6771b68b0ed330f1918b8b62d9c4_L-e1759873944536.jpg
END:VEVENT
BEGIN:VEVENT
DTSTART;TZID=UTC:20251007T180000
DTEND;TZID=UTC:20251007T193000
DTSTAMP:20260425T152309
CREATED:20251007T212151Z
LAST-MODIFIED:20251007T212151Z
UID:10000638-1759860000-1759865400@www.visitlibby.org
SUMMARY:Taproom Trivia at the Brewery
DESCRIPTION:Test your knowledge of the mundane while enjoying handcrafted beer in Libby’s living room. Nightly and season-ending prizes.  Teams of 1-5. \nIt’s the best thing going on Tuesday night!
URL:https://www.visitlibby.org/event/taproom-trivia-at-the-brewery/2025-10-07/
LOCATION:Cabinet Mountain Brewing\, 2 Ave C\, Libby\, MT\, United States
CATEGORIES:Entertainment
ATTACH;FMTTYPE=image/png:https://www.visitlibby.org/wp-content/uploads/2025/05/cabinetmt-bn9Zku.tmp_.png
GEO:48.390406;-115.577054
X-APPLE-STRUCTURED-LOCATION;VALUE=URI;X-ADDRESS=Cabinet Mountain Brewing 2 Ave C Libby MT United States;X-APPLE-RADIUS=500;X-TITLE=2 Ave C:geo:-115.577054,48.390406
END:VEVENT
BEGIN:VEVENT
DTSTART;TZID=UTC:20251002T120000
DTEND;TZID=UTC:20251002T180000
DTSTAMP:20260425T152309
CREATED:20250922T222423Z
LAST-MODIFIED:20250922T222423Z
UID:10000254-1759406400-1759428000@www.visitlibby.org
SUMMARY:Hoot Owl's Stock Up Sale and Pumpkin Palooza
DESCRIPTION:Celebrate the season Hoot Owl’s Stock Up Sale and Pumpkin Palooza! Come enjoy an afternoon full of fall favorites\, fresh flavors\, and fun for all ages. \nThere will be plenty of local produce to stock up on\, a pumpkin patch\, complimentary coffee and cider\, and farm tours to explore and learn more about where your food comes from. You’ll also find locally roasted coffee from Camp Creek Coffee Roasters and fresh baked breads from The Black Board Bistro.
URL:https://www.visitlibby.org/event/hoot-owls-stock-up-sale-and-pumpkin-palooza/
LOCATION:Hoot Owl Farm
CATEGORIES:Sale
END:VEVENT
BEGIN:VEVENT
DTSTART;TZID=UTC:20250920T173000
DTEND;TZID=UTC:20250920T210000
DTSTAMP:20260425T152309
CREATED:20250819T213826Z
LAST-MODIFIED:20250819T213826Z
UID:10000213-1758389400-1758402000@www.visitlibby.org
SUMMARY:Nashville Nights
DESCRIPTION:Nashville Nights returns to the Memorial Center on Saturday\, September 20th for another unforgettable evening of country music\, storytelling\, and honky tonk fun. Now in its third year\, this crowd-favorite event brings the spirit of Broadway in Nashville right here to Libby\, Montana. \nThe show features original sets from each artist\, giving you a true taste of their music and style. Then\, the night wraps up with a full Nashville honky tonk experience—an interactive set where you can request your favorite country songs\, just like you would at a bar on Broadway in downtown Nashville.
URL:https://www.visitlibby.org/event/nashville-nights/
LOCATION:Memorial Event Center\, 111 E Lincoln Blvd\, Libby\, 59923\, United States
CATEGORIES:Festivals & Celebrations,Fundraisers
ATTACH;FMTTYPE=image/png:https://www.visitlibby.org/wp-content/uploads/2025/08/nashville-nights-2-e1755639466841.png
END:VEVENT
BEGIN:VEVENT
DTSTART;TZID=UTC:20250920T090000
DTEND;TZID=UTC:20250920T130000
DTSTAMP:20260425T152309
CREATED:20250820T214940Z
LAST-MODIFIED:20250820T215605Z
UID:10000231-1758358800-1758373200@www.visitlibby.org
SUMMARY:Koocanusa Krank Climbing Competition
DESCRIPTION:Join us for a FULL weekend of all things climbing at Stone Hill – the best crag in Northwest Montana located in Kootenai National Forest. We are stoked to be setting up base camp at the Tobacco River Ranch in Eureka this year! Competition will run on Saturday\, September 20th from 9am – 4pm. Bring your try hard and climb as many routes as your finger tips and toes can handle\, then head back to the Ranch for awards and after party.\n\nThe Krank is for all ages and abilities and is family-friendly. New this year\, The Mountain Guides Montana will be hosting beginner and advanced climbing skills clinics throughout the weekend\, too!\n\nVisit https://nwmtcc.square.site/krank for more details and online registration.
URL:https://www.visitlibby.org/event/koocanusa-krank-climbing-competition/
LOCATION:Stone Hill Climbing Area\, MT-37\, Rexford\, MT\, 59930\, United States
CATEGORIES:Entertainment,Sports & Recreation
ATTACH;FMTTYPE=image/jpeg:https://www.visitlibby.org/wp-content/uploads/2025/08/520290026_1057170139861083_5094674080326152729_n-e1755726443752.jpg
END:VEVENT
BEGIN:VEVENT
DTSTART;TZID=UTC:20250917T180000
DTEND;TZID=UTC:20250917T210000
DTSTAMP:20260425T152309
CREATED:20250801T215354Z
LAST-MODIFIED:20250801T215354Z
UID:10000190-1758132000-1758142800@www.visitlibby.org
SUMMARY:Wednesdays are for Women and Wine
DESCRIPTION:6:00 pm – 9:00 pm\n\n\n\n\nWomen! Join us at Cabinet Mountain Brewing for every week for 15% of a meal\, sip on the latest wines or try a flight.
URL:https://www.visitlibby.org/event/wednesdays-are-for-women-and-wine-8/
LOCATION:Cabinet Mountain Brewing\, Co.\, 206 Mineral Ave.\, Libby\, MT\, 59923\, United States
CATEGORIES:Entertainment
END:VEVENT
END:VCALENDAR