BEGIN:VCALENDAR
VERSION:2.0
PRODID:-//Visit Libby - ECPv6.15.20//NONSGML v1.0//EN
CALSCALE:GREGORIAN
METHOD:PUBLISH
X-WR-CALNAME:Visit Libby
X-ORIGINAL-URL:https://www.visitlibby.org
X-WR-CALDESC:Events for Visit Libby
REFRESH-INTERVAL;VALUE=DURATION:PT1H
X-Robots-Tag:noindex
X-PUBLISHED-TTL:PT1H
BEGIN:VTIMEZONE
TZID:UTC
BEGIN:STANDARD
TZOFFSETFROM:+0000
TZOFFSETTO:+0000
TZNAME:UTC
DTSTART:20240101T000000
END:STANDARD
END:VTIMEZONE
BEGIN:VTIMEZONE
TZID:America/Denver
BEGIN:DAYLIGHT
TZOFFSETFROM:-0700
TZOFFSETTO:-0600
TZNAME:MDT
DTSTART:20240310T090000
END:DAYLIGHT
BEGIN:STANDARD
TZOFFSETFROM:-0600
TZOFFSETTO:-0700
TZNAME:MST
DTSTART:20241103T080000
END:STANDARD
BEGIN:DAYLIGHT
TZOFFSETFROM:-0700
TZOFFSETTO:-0600
TZNAME:MDT
DTSTART:20250309T090000
END:DAYLIGHT
BEGIN:STANDARD
TZOFFSETFROM:-0600
TZOFFSETTO:-0700
TZNAME:MST
DTSTART:20251102T080000
END:STANDARD
BEGIN:DAYLIGHT
TZOFFSETFROM:-0700
TZOFFSETTO:-0600
TZNAME:MDT
DTSTART:20260308T090000
END:DAYLIGHT
BEGIN:STANDARD
TZOFFSETFROM:-0600
TZOFFSETTO:-0700
TZNAME:MST
DTSTART:20261101T080000
END:STANDARD
END:VTIMEZONE
BEGIN:VEVENT
DTSTART;TZID=UTC:20250806T080000
DTEND;TZID=UTC:20250806T160000
DTSTAMP:20260425T225623
CREATED:20250804T185301Z
LAST-MODIFIED:20250804T185301Z
UID:10000204-1754467200-1754496000@www.visitlibby.org
SUMMARY:Free Sports Physicals
DESCRIPTION:LES grade 5 and 6 students who plan to participate in sports will need to provide a sports physical and purchase and activity pass. \n\n\n\nFREE sports physicals can be completed at LMHS on Wednesday\, August 6th. ****A hard copy needs to be submitted to the LES office. LES does NOT use Arbiter/Dragonfly (those are platforms for Middle and High school students). \n\n\n\nLES students will also need to purchase a $20 activity/participation pass. This is NOT affiliated with the LMHS family/sports pass. Passes can be purchased online (once online registration opens August 11th) or at the LES office (cash or check).
URL:https://www.visitlibby.org/event/free-sports-physicals/
LOCATION:Libby Middle High School\, 150 Education Way\, Libby\, MT 59923\, Libby\, 59923\, United States
CATEGORIES:Sports & Recreation
ATTACH;FMTTYPE=image/jpeg:https://www.visitlibby.org/wp-content/uploads/2025/08/528163412_1285862970003152_9017369886646084559_n-e1754333558107.jpg
END:VEVENT
BEGIN:VEVENT
DTSTART;TZID=UTC:20250807T190000
DTEND;TZID=UTC:20250807T200000
DTSTAMP:20260425T225623
CREATED:20250725T152315Z
LAST-MODIFIED:20250725T152315Z
UID:10000161-1754593200-1754596800@www.visitlibby.org
SUMMARY:Guns & Hoses Softball Fundraiser
DESCRIPTION:Proceeds contributed to support and expand opportunities for youth and families. Bring a school supply to be entered to win a prize!
URL:https://www.visitlibby.org/event/guns-hoses-softball-fundraiser/
LOCATION:Legion Field
CATEGORIES:Entertainment,Fundraisers,Sports & Recreation
ATTACH;FMTTYPE=image/jpeg:https://www.visitlibby.org/wp-content/uploads/2025/07/IMG_2387.jpeg
END:VEVENT
BEGIN:VEVENT
DTSTART;VALUE=DATE:20250809
DTEND;VALUE=DATE:20250811
DTSTAMP:20260425T225623
CREATED:20250614T232237Z
LAST-MODIFIED:20250630T124640Z
UID:10000109-1754697600-1754870399@www.visitlibby.org
SUMMARY:Member Guest Golf Tournament
DESCRIPTION:If you would like to play in the Member Guest and need either a member or guest please contact Jeff at the golf shop and he can help you obtain a partner.
URL:https://www.visitlibby.org/event/member-guest-golf-tournament/
LOCATION:Cabinet View Golf Club\, 458 Cabinet View Rd.\, LIBBY\, MT\, 59923\, United States
CATEGORIES:Sports & Recreation
ATTACH;FMTTYPE=image/png:https://www.visitlibby.org/wp-content/uploads/2025/04/Cabinet-View-TxE383.tmp_.png
GEO:48.384809;-115.563428
X-APPLE-STRUCTURED-LOCATION;VALUE=URI;X-ADDRESS=Cabinet View Golf Club 458 Cabinet View Rd. LIBBY MT 59923 United States;X-APPLE-RADIUS=500;X-TITLE=458 Cabinet View Rd.:geo:-115.563428,48.384809
END:VEVENT
BEGIN:VEVENT
DTSTART;TZID=UTC:20250820T093000
DTEND;TZID=UTC:20250820T101500
DTSTAMP:20260425T225623
CREATED:20250819T220847Z
LAST-MODIFIED:20250819T220847Z
UID:10000221-1755682200-1755684900@www.visitlibby.org
SUMMARY:Dance Fitness in the Park
DESCRIPTION:Every day of the week Monday through Friday at 9:30 am.Open to the community by donation to the instructor.All fitness levels welcome! Bring a friend!
URL:https://www.visitlibby.org/event/dance-fitness-in-the-park/
LOCATION:Riverfront Park
CATEGORIES:Sports & Recreation
ATTACH;FMTTYPE=image/jpeg:https://www.visitlibby.org/wp-content/uploads/2025/08/pure-north-athletic-club-logo-e1755641234743.jpg
ORGANIZER;CN="Pure North Athletic Club":MAILTO:purenorthac@gmail.com
END:VEVENT
BEGIN:VEVENT
DTSTART;TZID=UTC:20250821T093000
DTEND;TZID=UTC:20250821T101500
DTSTAMP:20260425T225623
CREATED:20250820T201036Z
LAST-MODIFIED:20250820T201036Z
UID:10000222-1755768600-1755771300@www.visitlibby.org
SUMMARY:Dance Fitness in the Park
DESCRIPTION:Every day of the week Monday through Friday at 9:30 am.Open to the community by donation to the instructor.All fitness levels welcome! Bring a friend!
URL:https://www.visitlibby.org/event/dance-fitness-in-the-park-2/2025-08-21/
LOCATION:Riverfront Park
CATEGORIES:Arts & Classes,Sports & Recreation
ATTACH;FMTTYPE=image/jpeg:https://www.visitlibby.org/wp-content/uploads/2025/08/pure-north-athletic-club-logo-e1755641234743.jpg
ORGANIZER;CN="Pure North Athletic Club":MAILTO:purenorthac@gmail.com
END:VEVENT
BEGIN:VEVENT
DTSTART;TZID=UTC:20250822T093000
DTEND;TZID=UTC:20250822T101500
DTSTAMP:20260425T225623
CREATED:20250820T201036Z
LAST-MODIFIED:20250820T201036Z
UID:10000223-1755855000-1755857700@www.visitlibby.org
SUMMARY:Dance Fitness in the Park
DESCRIPTION:Every day of the week Monday through Friday at 9:30 am.Open to the community by donation to the instructor.All fitness levels welcome! Bring a friend!
URL:https://www.visitlibby.org/event/dance-fitness-in-the-park-2/2025-08-22/
LOCATION:Riverfront Park
CATEGORIES:Arts & Classes,Sports & Recreation
ATTACH;FMTTYPE=image/jpeg:https://www.visitlibby.org/wp-content/uploads/2025/08/pure-north-athletic-club-logo-e1755641234743.jpg
ORGANIZER;CN="Pure North Athletic Club":MAILTO:purenorthac@gmail.com
END:VEVENT
BEGIN:VEVENT
DTSTART;VALUE=DATE:20250823
DTEND;VALUE=DATE:20250824
DTSTAMP:20260425T225623
CREATED:20250619T171807Z
LAST-MODIFIED:20250627T121010Z
UID:10000115-1755907200-1755993599@www.visitlibby.org
SUMMARY:Equipment Fundraiser Golf Tournament
DESCRIPTION:4 Person Scramble\nAll proceeds will be going to the Golf Course Maintenance and Building Fund. 
URL:https://www.visitlibby.org/event/equipment-fundraiser-golf-tournament/
LOCATION:Cabinet View Golf Club\, 458 Cabinet View Rd.\, LIBBY\, MT\, 59923\, United States
CATEGORIES:Fundraisers,Sports & Recreation
ATTACH;FMTTYPE=image/png:https://www.visitlibby.org/wp-content/uploads/2025/04/Cabinet-View-TxE383.tmp_.png
GEO:48.384809;-115.563428
X-APPLE-STRUCTURED-LOCATION;VALUE=URI;X-ADDRESS=Cabinet View Golf Club 458 Cabinet View Rd. LIBBY MT 59923 United States;X-APPLE-RADIUS=500;X-TITLE=458 Cabinet View Rd.:geo:-115.563428,48.384809
END:VEVENT
BEGIN:VEVENT
DTSTART;TZID=UTC:20250825T093000
DTEND;TZID=UTC:20250825T101500
DTSTAMP:20260425T225623
CREATED:20250820T201036Z
LAST-MODIFIED:20250820T201036Z
UID:10000224-1756114200-1756116900@www.visitlibby.org
SUMMARY:Dance Fitness in the Park
DESCRIPTION:Every day of the week Monday through Friday at 9:30 am.Open to the community by donation to the instructor.All fitness levels welcome! Bring a friend!
URL:https://www.visitlibby.org/event/dance-fitness-in-the-park-2/2025-08-25/
LOCATION:Riverfront Park
CATEGORIES:Arts & Classes,Sports & Recreation
ATTACH;FMTTYPE=image/jpeg:https://www.visitlibby.org/wp-content/uploads/2025/08/pure-north-athletic-club-logo-e1755641234743.jpg
ORGANIZER;CN="Pure North Athletic Club":MAILTO:purenorthac@gmail.com
END:VEVENT
BEGIN:VEVENT
DTSTART;TZID=UTC:20250826T093000
DTEND;TZID=UTC:20250826T101500
DTSTAMP:20260425T225623
CREATED:20250820T201036Z
LAST-MODIFIED:20250820T201036Z
UID:10000225-1756200600-1756203300@www.visitlibby.org
SUMMARY:Dance Fitness in the Park
DESCRIPTION:Every day of the week Monday through Friday at 9:30 am.Open to the community by donation to the instructor.All fitness levels welcome! Bring a friend!
URL:https://www.visitlibby.org/event/dance-fitness-in-the-park-2/2025-08-26/
LOCATION:Riverfront Park
CATEGORIES:Arts & Classes,Sports & Recreation
ATTACH;FMTTYPE=image/jpeg:https://www.visitlibby.org/wp-content/uploads/2025/08/pure-north-athletic-club-logo-e1755641234743.jpg
ORGANIZER;CN="Pure North Athletic Club":MAILTO:purenorthac@gmail.com
END:VEVENT
BEGIN:VEVENT
DTSTART;TZID=UTC:20250827T093000
DTEND;TZID=UTC:20250827T101500
DTSTAMP:20260425T225623
CREATED:20250820T201036Z
LAST-MODIFIED:20250820T201036Z
UID:10000226-1756287000-1756289700@www.visitlibby.org
SUMMARY:Dance Fitness in the Park
DESCRIPTION:Every day of the week Monday through Friday at 9:30 am.Open to the community by donation to the instructor.All fitness levels welcome! Bring a friend!
URL:https://www.visitlibby.org/event/dance-fitness-in-the-park-2/2025-08-27/
LOCATION:Riverfront Park
CATEGORIES:Arts & Classes,Sports & Recreation
ATTACH;FMTTYPE=image/jpeg:https://www.visitlibby.org/wp-content/uploads/2025/08/pure-north-athletic-club-logo-e1755641234743.jpg
ORGANIZER;CN="Pure North Athletic Club":MAILTO:purenorthac@gmail.com
END:VEVENT
BEGIN:VEVENT
DTSTART;TZID=UTC:20250828T093000
DTEND;TZID=UTC:20250828T101500
DTSTAMP:20260425T225623
CREATED:20250820T201036Z
LAST-MODIFIED:20250820T201036Z
UID:10000227-1756373400-1756376100@www.visitlibby.org
SUMMARY:Dance Fitness in the Park
DESCRIPTION:Every day of the week Monday through Friday at 9:30 am.Open to the community by donation to the instructor.All fitness levels welcome! Bring a friend!
URL:https://www.visitlibby.org/event/dance-fitness-in-the-park-2/2025-08-28/
LOCATION:Riverfront Park
CATEGORIES:Arts & Classes,Sports & Recreation
ATTACH;FMTTYPE=image/jpeg:https://www.visitlibby.org/wp-content/uploads/2025/08/pure-north-athletic-club-logo-e1755641234743.jpg
ORGANIZER;CN="Pure North Athletic Club":MAILTO:purenorthac@gmail.com
END:VEVENT
BEGIN:VEVENT
DTSTART;TZID=UTC:20250829T093000
DTEND;TZID=UTC:20250829T101500
DTSTAMP:20260425T225623
CREATED:20250820T201036Z
LAST-MODIFIED:20250820T201036Z
UID:10000228-1756459800-1756462500@www.visitlibby.org
SUMMARY:Dance Fitness in the Park
DESCRIPTION:Every day of the week Monday through Friday at 9:30 am.Open to the community by donation to the instructor.All fitness levels welcome! Bring a friend!
URL:https://www.visitlibby.org/event/dance-fitness-in-the-park-2/2025-08-29/
LOCATION:Riverfront Park
CATEGORIES:Arts & Classes,Sports & Recreation
ATTACH;FMTTYPE=image/jpeg:https://www.visitlibby.org/wp-content/uploads/2025/08/pure-north-athletic-club-logo-e1755641234743.jpg
ORGANIZER;CN="Pure North Athletic Club":MAILTO:purenorthac@gmail.com
END:VEVENT
END:VCALENDAR