BEGIN:VCALENDAR
VERSION:2.0
PRODID:-//Visit Libby - ECPv6.15.20//NONSGML v1.0//EN
CALSCALE:GREGORIAN
METHOD:PUBLISH
X-WR-CALNAME:Visit Libby
X-ORIGINAL-URL:https://www.visitlibby.org
X-WR-CALDESC:Events for Visit Libby
REFRESH-INTERVAL;VALUE=DURATION:PT1H
X-Robots-Tag:noindex
X-PUBLISHED-TTL:PT1H
BEGIN:VTIMEZONE
TZID:America/Denver
BEGIN:DAYLIGHT
TZOFFSETFROM:-0700
TZOFFSETTO:-0600
TZNAME:MDT
DTSTART:20240310T090000
END:DAYLIGHT
BEGIN:STANDARD
TZOFFSETFROM:-0600
TZOFFSETTO:-0700
TZNAME:MST
DTSTART:20241103T080000
END:STANDARD
BEGIN:DAYLIGHT
TZOFFSETFROM:-0700
TZOFFSETTO:-0600
TZNAME:MDT
DTSTART:20250309T090000
END:DAYLIGHT
BEGIN:STANDARD
TZOFFSETFROM:-0600
TZOFFSETTO:-0700
TZNAME:MST
DTSTART:20251102T080000
END:STANDARD
BEGIN:DAYLIGHT
TZOFFSETFROM:-0700
TZOFFSETTO:-0600
TZNAME:MDT
DTSTART:20260308T090000
END:DAYLIGHT
BEGIN:STANDARD
TZOFFSETFROM:-0600
TZOFFSETTO:-0700
TZNAME:MST
DTSTART:20261101T080000
END:STANDARD
END:VTIMEZONE
BEGIN:VEVENT
DTSTART;VALUE=DATE:20250719
DTEND;VALUE=DATE:20250720
DTSTAMP:20260426T003032
CREATED:20250619T171308Z
LAST-MODIFIED:20250630T192959Z
UID:10000114-1752883200-1752969599@www.visitlibby.org
SUMMARY:National Cancer Society Golf Fundraiser
DESCRIPTION:4 Person Scramble \nProceeds benefit the National Cancer Society
URL:https://www.visitlibby.org/event/national-cancer-society-golf-fundraiser-2/
LOCATION:Cabinet View Golf Club\, 458 Cabinet View Rd.\, LIBBY\, MT\, 59923\, United States
CATEGORIES:Fundraisers,Sports & Recreation
ATTACH;FMTTYPE=image/png:https://www.visitlibby.org/wp-content/uploads/2025/04/Cabinet-View-TxE383.tmp_.png
GEO:48.384809;-115.563428
X-APPLE-STRUCTURED-LOCATION;VALUE=URI;X-ADDRESS=Cabinet View Golf Club 458 Cabinet View Rd. LIBBY MT 59923 United States;X-APPLE-RADIUS=500;X-TITLE=458 Cabinet View Rd.:geo:-115.563428,48.384809
END:VEVENT
BEGIN:VEVENT
DTSTART;VALUE=DATE:20250725
DTEND;VALUE=DATE:20250727
DTSTAMP:20260426T003032
CREATED:20250626T090131Z
LAST-MODIFIED:20250630T193000Z
UID:10000127-1753401600-1753574399@www.visitlibby.org
SUMMARY:Kootenai River Stampede Rodeo
DESCRIPTION:Saddle up and head to Libby for the Kootenai River Stampede\, our town’s beloved summer tradition now in its 21st year! Sanctioned by the Professional Rodeo Cowboys Association (PRCA) and the Women’s Professional Rodeo Association (WPRA)\, this event brings top-tier rodeo competition to the Kootenai Valley. \nEvents Include:• Saddlebronc Riding• Steer Wrestling• Team Roping• Bareback Riding• Ladies Breakaway Roping• Bull Riding• Ladies Barrel Racing• Tie Down Roping \nMore than just a rodeo:🍔 Food Vendors | 🍻 Beer Garden | 🛍️ Craft Vendors | 🐴 Kids Events \nWhether you’re a longtime rodeo fan or just looking for an exciting night out\, the Kootenai River Stampede offers family-friendly fun and thrilling rodeo action you won’t want to miss. \nPurchase Tickets Here.
URL:https://www.visitlibby.org/event/kootenai-river-stampede-rodeo-2/
LOCATION:J. Neils Park\, 1301 MT-37\, Libby\, MT\, 59923\, United States
CATEGORIES:Entertainment,Sports & Recreation
ATTACH;FMTTYPE=image/jpeg:https://www.visitlibby.org/wp-content/uploads/2025/06/486536751_1196210232294338_8612638039450250941_n-e1744067763425-BBW18L.tmp_.jpg
GEO:48.380992;-115.394062
X-APPLE-STRUCTURED-LOCATION;VALUE=URI;X-ADDRESS=J. Neils Park 1301 MT-37 Libby MT 59923 United States;X-APPLE-RADIUS=500;X-TITLE=1301 MT-37:geo:-115.394062,48.380992
END:VEVENT
BEGIN:VEVENT
DTSTART;VALUE=DATE:20250727
DTEND;VALUE=DATE:20250728
DTSTAMP:20260426T003032
CREATED:20250627T003544Z
LAST-MODIFIED:20250630T193001Z
UID:10000134-1753574400-1753660799@www.visitlibby.org
SUMMARY:‘World’s Toughest’ Golf Tournament
DESCRIPTION:4 4-person scramble at the beautiful Cabinet View Golf Club.
URL:https://www.visitlibby.org/event/worlds-toughest-golf-tournament-2/
LOCATION:Cabinet View Golf Club\, 458 Cabinet View Rd.\, LIBBY\, MT\, 59923\, United States
CATEGORIES:Sports & Recreation
ATTACH;FMTTYPE=image/png:https://www.visitlibby.org/wp-content/uploads/2025/04/Cabinet-View-TxE383.tmp_.png
GEO:48.384809;-115.563428
X-APPLE-STRUCTURED-LOCATION;VALUE=URI;X-ADDRESS=Cabinet View Golf Club 458 Cabinet View Rd. LIBBY MT 59923 United States;X-APPLE-RADIUS=500;X-TITLE=458 Cabinet View Rd.:geo:-115.563428,48.384809
END:VEVENT
END:VCALENDAR