BEGIN:VCALENDAR
VERSION:2.0
PRODID:-//Visit Libby - ECPv6.15.20//NONSGML v1.0//EN
CALSCALE:GREGORIAN
METHOD:PUBLISH
X-ORIGINAL-URL:https://www.visitlibby.org
X-WR-CALDESC:Events for Visit Libby
REFRESH-INTERVAL;VALUE=DURATION:PT1H
X-Robots-Tag:noindex
X-PUBLISHED-TTL:PT1H
BEGIN:VTIMEZONE
TZID:America/Denver
BEGIN:DAYLIGHT
TZOFFSETFROM:-0700
TZOFFSETTO:-0600
TZNAME:MDT
DTSTART:20240310T090000
END:DAYLIGHT
BEGIN:STANDARD
TZOFFSETFROM:-0600
TZOFFSETTO:-0700
TZNAME:MST
DTSTART:20241103T080000
END:STANDARD
BEGIN:DAYLIGHT
TZOFFSETFROM:-0700
TZOFFSETTO:-0600
TZNAME:MDT
DTSTART:20250309T090000
END:DAYLIGHT
BEGIN:STANDARD
TZOFFSETFROM:-0600
TZOFFSETTO:-0700
TZNAME:MST
DTSTART:20251102T080000
END:STANDARD
BEGIN:DAYLIGHT
TZOFFSETFROM:-0700
TZOFFSETTO:-0600
TZNAME:MDT
DTSTART:20260308T090000
END:DAYLIGHT
BEGIN:STANDARD
TZOFFSETFROM:-0600
TZOFFSETTO:-0700
TZNAME:MST
DTSTART:20261101T080000
END:STANDARD
END:VTIMEZONE
BEGIN:VEVENT
DTSTART;VALUE=DATE:20250606
DTEND;VALUE=DATE:20250607
DTSTAMP:20260426T015637
CREATED:20250507T215815Z
LAST-MODIFIED:20250606T230117Z
UID:10000048-1749168000-1749254399@www.visitlibby.org
SUMMARY:Dinner on the Diamond
DESCRIPTION:Mark your calendars and join us at “The Lumberyard” for an evening of fun\, food\, and fundraising! Enjoy a mouthwatering  dinner\, a cash bar\, and fantastic live music. This event is always a highlight of the Logger Baseball season and tickets are going fast!
URL:https://www.visitlibby.org/event/dinner-on-the-diamond-2/
LOCATION:Lee Gehring Field\, 101 W 2nd St\, Libby\, MT\, United States
CATEGORIES:Fundraisers,Sports & Recreation
ATTACH;FMTTYPE=image/png:https://www.visitlibby.org/wp-content/uploads/2025/04/cropped-Logger-Logo-Rect-1-dKZYgF.tmp_.png
GEO:48.393814;-115.550339
X-APPLE-STRUCTURED-LOCATION;VALUE=URI;X-ADDRESS=Lee Gehring Field 101 W 2nd St Libby MT United States;X-APPLE-RADIUS=500;X-TITLE=101 W 2nd St:geo:-115.550339,48.393814
END:VEVENT
BEGIN:VEVENT
DTSTART;VALUE=DATE:20250607
DTEND;VALUE=DATE:20250609
DTSTAMP:20260426T015637
CREATED:20250428T223259Z
LAST-MODIFIED:20250608T214644Z
UID:10000036-1749254400-1749427199@www.visitlibby.org
SUMMARY:Ben Graham Memorial Golf Tournament
DESCRIPTION:The Ben Graham Memorial High School Golf Fundraiser is a two day\, 36 hole stroke play event that features Men’s and Women’s divisions as well as dinner and tee prizes.
URL:https://www.visitlibby.org/event/ben-graham-memorial-golf-tournament/
LOCATION:Cabinet View Golf Club\, 458 Cabinet View Rd.\, LIBBY\, MT\, 59923\, United States
CATEGORIES:Sports & Recreation
ATTACH;FMTTYPE=image/png:https://www.visitlibby.org/wp-content/uploads/2025/04/Cabinet-View-TxE383.tmp_.png
GEO:48.384809;-115.563428
X-APPLE-STRUCTURED-LOCATION;VALUE=URI;X-ADDRESS=Cabinet View Golf Club 458 Cabinet View Rd. LIBBY MT 59923 United States;X-APPLE-RADIUS=500;X-TITLE=458 Cabinet View Rd.:geo:-115.563428,48.384809
END:VEVENT
BEGIN:VEVENT
DTSTART;VALUE=DATE:20250613
DTEND;VALUE=DATE:20250616
DTSTAMP:20260426T015637
CREATED:20250428T223259Z
LAST-MODIFIED:20250615T235420Z
UID:10000038-1749772800-1750031999@www.visitlibby.org
SUMMARY:Border Brawl 10U/12U Tournament
DESCRIPTION:Get ready for some big-time fun from our youngest sluggers at the Border Brawl 10U/12U Tournament in beautiful Libby\, Montana! This exciting youth baseball tournament brings together talented 10U and 12U teams from both sides of the border for a weekend of fierce competition\, good sportsmanship\, and community pride.
URL:https://www.visitlibby.org/event/border-brawl-10u-12u-tournament/
LOCATION:Cemetery Fields & J Neils Park
CATEGORIES:Sports & Recreation
ATTACH;FMTTYPE=image/png:https://www.visitlibby.org/wp-content/uploads/2025/04/cropped-Logger-Logo-Rect-1-dKZYgF.tmp_.png
END:VEVENT
BEGIN:VEVENT
DTSTART;VALUE=DATE:20250613
DTEND;VALUE=DATE:20250616
DTSTAMP:20260426T015637
CREATED:20250507T215816Z
LAST-MODIFIED:20250613T230747Z
UID:10000052-1749772800-1750031999@www.visitlibby.org
SUMMARY:Border Brawl 10U/12U Tournament
DESCRIPTION:Get ready for some big-time fun from our youngest sluggers at the Border Brawl 10U/12U Tournament in beautiful Libby\, Montana! This exciting youth baseball tournament brings together talented 10U and 12U teams from both sides of the border for a weekend of fierce competition\, good sportsmanship\, and community pride.
URL:https://www.visitlibby.org/event/border-brawl-10u-12u-tournament-2/
LOCATION:Cemetery Fields & J Neils Park
CATEGORIES:Sports & Recreation
ATTACH;FMTTYPE=image/png:https://www.visitlibby.org/wp-content/uploads/2025/04/cropped-Logger-Logo-Rect-1-dKZYgF.tmp_.png
END:VEVENT
BEGIN:VEVENT
DTSTART;VALUE=DATE:20250613
DTEND;VALUE=DATE:20250616
DTSTAMP:20260426T015637
CREATED:20250507T215816Z
LAST-MODIFIED:20250613T230747Z
UID:10000053-1749772800-1750031999@www.visitlibby.org
SUMMARY:Screaming Brain 2025
DESCRIPTION:The Big Feelings Nonprofit invites the public to the Screaming Brain Retreat\, a free\, three-day event focused on music\, art\, skateboarding\, and mental wellness. This all-ages retreat is designed to foster joy\, creativity\, and emotional well-being through a wide range of engaging activities and performances. \nEvent Highlights: \n\n\nDaily Workshops on music\, art\, and mental health led by experienced professionals. \n\n\nFamily-Friendly Activities\, including games and workshops for children and a special Father’s Day event on Sunday. \n\n\nFood and Art Vendors offering delicious local fare and unique\, handcrafted items. \n\n\nLive Music All Weekend Long featuring a diverse lineup of bands and performers. \n\n\nFriday\, June 13 – Welcome Party: Performances by Cult of Suffering\, Robo-Colt\, Hísemtuks Hími•n\, Goblet\, Loin Hammer\, Kitties and Titties\, Duh-Runk\, and Switch Off Safety. \nSaturday\, June 14 – Skateboarding Competition: Performances by Pay No Mind\, Do Fish Make Noise\, Bacon & Egg\, Xenoplasm\, Atomic Frequencies\, No Living Witness\, Lucitones\, Greylotus\, Demon King\, Vitriol\, Inferi\, Kenny Bowling\, The Ramblin’ Ragamuffins\, and Jug o’ Piss. \nSunday\, June 15 – Punk Rock Dog Show: Performances by The Worst Idea\, HiTLisT\, Devilution\, Willing Hands\, Marion Drain\, Tommy V\, JJ Kind\, Blighted Eye\, Lost To The Void\, The Devils of Loudun\, Mr. Sletner aka Raw B\, and Porcelain Robot. \nAfter Party: VFW Post 5514\, 216 Yaak Ave\, Troy\, MT 59935 (11 PM – 2 AM each night)Cost: Free and open to all ages \nThis event is open to everyone and aims to highlight the important role that music\, art\, and physical activity play in supporting mental health. Whether you’re coming for the workshops\, the music\, the skating\, or just to have fun—there’s something for everyone. \nFor more information\, follow Big Feelings Nonprofit on social media or contact the event organizers.
URL:https://www.visitlibby.org/event/screaming-brain-2025-2/
LOCATION:Roosevelt Park | Troy\, MT\, 221 Roosevelt Park\, Ro\, Troy\, MT\, 59935
CATEGORIES:Sports & Recreation
ATTACH;FMTTYPE=image/jpeg:https://www.visitlibby.org/wp-content/uploads/2025/05/489020863_643295148537060_57975293770681567_n-e1744404869881-PG3faH.tmp_.jpg
END:VEVENT
BEGIN:VEVENT
DTSTART;VALUE=DATE:20250614
DTEND;VALUE=DATE:20250615
DTSTAMP:20260426T015637
CREATED:20250503T003433Z
LAST-MODIFIED:20250512T152232Z
UID:10000041-1749859200-1749945599@www.visitlibby.org
SUMMARY:CASA Fundraiser Golf Scramble
DESCRIPTION:4 Person Scramble
URL:https://www.visitlibby.org/event/casa-fundraiser-golf-scramble/
LOCATION:Cabinet View Golf Club\, 458 Cabinet View Rd.\, LIBBY\, MT\, 59923\, United States
CATEGORIES:Fundraisers,Sports & Recreation
ATTACH;FMTTYPE=image/png:https://www.visitlibby.org/wp-content/uploads/2025/04/Cabinet-View-TxE383.tmp_.png
GEO:48.384809;-115.563428
X-APPLE-STRUCTURED-LOCATION;VALUE=URI;X-ADDRESS=Cabinet View Golf Club 458 Cabinet View Rd. LIBBY MT 59923 United States;X-APPLE-RADIUS=500;X-TITLE=458 Cabinet View Rd.:geo:-115.563428,48.384809
END:VEVENT
BEGIN:VEVENT
DTSTART;TZID=America/Denver:20250614T110000
DTEND;TZID=America/Denver:20250614T170000
DTSTAMP:20260426T015637
CREATED:20250513T074900Z
LAST-MODIFIED:20250614T233503Z
UID:10000064-1749898800-1749920400@www.visitlibby.org
SUMMARY:Cornhole for CASA Backboard Throwdown
DESCRIPTION:🎯 CORNHOLE FOR CASA! 🎯\nJoin us for a fun-filled cornhole tournament benefiting CASA of Lincoln County!\n🗓️ June 14th\n📍 J Neils\, Libby\, MT\n🎉 Food\, drinks\, prizes\, and bragging rights up for grabs!\n✨ Come toss some bags and support local kids in foster care!\n👉 Register now or learn more: www.lincolncasa.org
URL:https://www.visitlibby.org/event/cornhole-for-casa-backboard-throwdown/
LOCATION:J. Neils Park\, 1301 MT-37\, Libby\, MT\, 59923\, United States
CATEGORIES:Entertainment,Fundraisers,Sports & Recreation
ATTACH;FMTTYPE=image/png:https://www.visitlibby.org/wp-content/uploads/2025/05/LINCOLN-COUNTY_v_RedBlue-TqPiR3.tmp_.png
GEO:48.380992;-115.394062
X-APPLE-STRUCTURED-LOCATION;VALUE=URI;X-ADDRESS=J. Neils Park 1301 MT-37 Libby MT 59923 United States;X-APPLE-RADIUS=500;X-TITLE=1301 MT-37:geo:-115.394062,48.380992
END:VEVENT
BEGIN:VEVENT
DTSTART;TZID=America/Denver:20250614T110000
DTEND;TZID=America/Denver:20250614T170000
DTSTAMP:20260426T015637
CREATED:20250513T151945Z
LAST-MODIFIED:20250613T230750Z
UID:10000065-1749898800-1749920400@www.visitlibby.org
SUMMARY:Cornhole for CASA Backboard Throwdown
DESCRIPTION:🎯 CORNHOLE FOR CASA! 🎯\nJoin us for a fun-filled cornhole tournament benefiting CASA of Lincoln County!\n🗓️ June 14th\n📍 J Neils\, Libby\, MT\n🎉 Food\, drinks\, prizes\, and bragging rights up for grabs!\n✨ Come toss some bags and support local kids in foster care!\n👉 Register now or learn more: www.lincolncasa.org
URL:https://www.visitlibby.org/event/cornhole-for-casa-backboard-throwdown-2/
LOCATION:J. Neils Park\, 1301 MT-37\, Libby\, MT\, 59923\, United States
CATEGORIES:Entertainment,Fundraisers,Sports & Recreation
ATTACH;FMTTYPE=image/png:https://www.visitlibby.org/wp-content/uploads/2025/05/LINCOLN-COUNTY_v_RedBlue-TqPiR3.tmp_.png
GEO:48.380992;-115.394062
X-APPLE-STRUCTURED-LOCATION;VALUE=URI;X-ADDRESS=J. Neils Park 1301 MT-37 Libby MT 59923 United States;X-APPLE-RADIUS=500;X-TITLE=1301 MT-37:geo:-115.394062,48.380992
END:VEVENT
BEGIN:VEVENT
DTSTART;TZID=America/Denver:20250615T133000
DTEND;TZID=America/Denver:20250615T153000
DTSTAMP:20260426T015637
CREATED:20250524T181910Z
LAST-MODIFIED:20250614T233507Z
UID:10000090-1749994200-1750001400@www.visitlibby.org
SUMMARY:Millpond MX Race Day 2025
DESCRIPTION:Rev your engines and join us for an adrenaline-filled day at the 2025 Millpond MX Race!\nGate Opens: 9:00 AMSign-Ups: 9:00–10:30 AMPractice: 11:30 AMRaces Start: 1:30 PM\nBring the whole family and enjoy a day of thrilling motocross action in the beautiful Millpond setting!
URL:https://www.visitlibby.org/event/millpond-mx-race-day-2025-2/
LOCATION:Millpond Track\, North Port Blvd\, Highway 2\, Libby\, MT\, 59923\, United States
CATEGORIES:Entertainment,Sports & Recreation
ATTACH;FMTTYPE=image/jpeg:https://www.visitlibby.org/wp-content/uploads/2025/05/497384167_705538188829365_628329817175114293_n-e1748028129344-MOOyRw.tmp_.jpg
GEO:48.38787;-115.554506
X-APPLE-STRUCTURED-LOCATION;VALUE=URI;X-ADDRESS=Millpond Track North Port Blvd Highway 2 Libby MT 59923 United States;X-APPLE-RADIUS=500;X-TITLE=North Port Blvd\, Highway 2:geo:-115.554506,48.38787
END:VEVENT
BEGIN:VEVENT
DTSTART;VALUE=DATE:20250619
DTEND;VALUE=DATE:20250623
DTSTAMP:20260426T015637
CREATED:20250505T083158Z
LAST-MODIFIED:20250622T101617Z
UID:10000043-1750291200-1750636799@www.visitlibby.org
SUMMARY:Big Bucks Tournament
DESCRIPTION:The Big Bucks Tournament is where teams bring their best to the field in an 8-10 team wood bat competition. Teams battle it out on the diamond for a shot at cash prizes\, awarded to the top three finishers. This high-stakes\, high-energy event promises thrilling baseball action and an unforgettable atmosphere.
URL:https://www.visitlibby.org/event/big-bucks-tournament/
LOCATION:Lee Gehring Field\, 101 W 2nd St\, Libby\, MT\, United States
CATEGORIES:Sports & Recreation
ATTACH;FMTTYPE=image/png:https://www.visitlibby.org/wp-content/uploads/2025/04/cropped-Logger-Logo-Rect-1-dKZYgF.tmp_.png
GEO:48.393814;-115.550339
X-APPLE-STRUCTURED-LOCATION;VALUE=URI;X-ADDRESS=Lee Gehring Field 101 W 2nd St Libby MT United States;X-APPLE-RADIUS=500;X-TITLE=101 W 2nd St:geo:-115.550339,48.393814
END:VEVENT
BEGIN:VEVENT
DTSTART;VALUE=DATE:20250621
DTEND;VALUE=DATE:20250622
DTSTAMP:20260426T015637
CREATED:20250507T215818Z
LAST-MODIFIED:20250621T234708Z
UID:10000059-1750464000-1750550399@www.visitlibby.org
SUMMARY:Libby Logger Booster Club Golf Fundraiser
DESCRIPTION:4 person scramble \nProceeds will help support Libby Logger Athletics \nRegistration Contact:\nScott Beagle\nbeagles@libbyschools.org\n406-293-1996
URL:https://www.visitlibby.org/event/libby-logger-booster-club-golf-fundraiser/
LOCATION:Cabinet View Golf Club\, 458 Cabinet View Rd.\, LIBBY\, MT\, 59923\, United States
CATEGORIES:Fundraisers,Sports & Recreation
ATTACH;FMTTYPE=image/jpeg:https://www.visitlibby.org/wp-content/uploads/2025/05/libby-loggers-e1682111105813-mBoLFN.tmp_.jpg
GEO:48.384809;-115.563428
X-APPLE-STRUCTURED-LOCATION;VALUE=URI;X-ADDRESS=Cabinet View Golf Club 458 Cabinet View Rd. LIBBY MT 59923 United States;X-APPLE-RADIUS=500;X-TITLE=458 Cabinet View Rd.:geo:-115.563428,48.384809
END:VEVENT
BEGIN:VEVENT
DTSTART;VALUE=DATE:20250628
DTEND;VALUE=DATE:20250629
DTSTAMP:20260426T015637
CREATED:20250516T161553Z
LAST-MODIFIED:20250628T122142Z
UID:10000066-1751068800-1751155199@www.visitlibby.org
SUMMARY:Playing for Fundsies Golf Tournament
DESCRIPTION:The Fundsies tournament is true to its name… we raise FUNDS while having FUN! Our tournament is known for fun on the course and twists on the classic game of golf. Playing for Fundsies is an annual 18-hole\, four-person scramble hosted by the Cabinet Peaks Medical Center Foundation. This event also provides lunch for the registered players. The beauty of this tournament is you don’t have to be an amazing golfer to join us or win a prize.\nProceeds from this year’s Playing for Fundsies will benefit Cabinet Peaks Medical Center.\nPlease come join us for a fun filled day that raises money for a good cause.
URL:https://www.visitlibby.org/event/playing-for-fundsies-golf-tournament-2/
LOCATION:Cabinet View Golf Club\, 458 Cabinet View Rd.\, LIBBY\, MT\, 59923\, United States
CATEGORIES:Fundraisers,Sports & Recreation
ATTACH;FMTTYPE=image/jpeg:https://www.visitlibby.org/wp-content/uploads/2025/05/480346157_1178862654247374_6285643172038407225_n-mV7ckl.tmp_.jpg
GEO:48.384809;-115.563428
X-APPLE-STRUCTURED-LOCATION;VALUE=URI;X-ADDRESS=Cabinet View Golf Club 458 Cabinet View Rd. LIBBY MT 59923 United States;X-APPLE-RADIUS=500;X-TITLE=458 Cabinet View Rd.:geo:-115.563428,48.384809
END:VEVENT
END:VCALENDAR