BEGIN:VCALENDAR
VERSION:2.0
PRODID:-//Visit Libby - ECPv6.15.20//NONSGML v1.0//EN
CALSCALE:GREGORIAN
METHOD:PUBLISH
X-ORIGINAL-URL:https://www.visitlibby.org
X-WR-CALDESC:Events for Visit Libby
REFRESH-INTERVAL;VALUE=DURATION:PT1H
X-Robots-Tag:noindex
X-PUBLISHED-TTL:PT1H
BEGIN:VTIMEZONE
TZID:America/Denver
BEGIN:DAYLIGHT
TZOFFSETFROM:-0700
TZOFFSETTO:-0600
TZNAME:MDT
DTSTART:20240310T090000
END:DAYLIGHT
BEGIN:STANDARD
TZOFFSETFROM:-0600
TZOFFSETTO:-0700
TZNAME:MST
DTSTART:20241103T080000
END:STANDARD
BEGIN:DAYLIGHT
TZOFFSETFROM:-0700
TZOFFSETTO:-0600
TZNAME:MDT
DTSTART:20250309T090000
END:DAYLIGHT
BEGIN:STANDARD
TZOFFSETFROM:-0600
TZOFFSETTO:-0700
TZNAME:MST
DTSTART:20251102T080000
END:STANDARD
BEGIN:DAYLIGHT
TZOFFSETFROM:-0700
TZOFFSETTO:-0600
TZNAME:MDT
DTSTART:20260308T090000
END:DAYLIGHT
BEGIN:STANDARD
TZOFFSETFROM:-0600
TZOFFSETTO:-0700
TZNAME:MST
DTSTART:20261101T080000
END:STANDARD
END:VTIMEZONE
BEGIN:VEVENT
DTSTART;TZID=America/Denver:20250517T090000
DTEND;TZID=America/Denver:20250517T170000
DTSTAMP:20260419T154127
CREATED:20250428T223255Z
LAST-MODIFIED:20250517T164615Z
UID:10000020-1747472400-1747501200@www.visitlibby.org
SUMMARY:Amish Farm to Market: Amish Auction
DESCRIPTION:Come join us in the beautiful Eagle Valley! The Amish Auction is a fun\, family friendly experience.\nSome people come for the food and friendship. Many come to find a bargain and some come just to hear the lively auctioneers and witness the excitement of large and small items being sold to the happy bidders!\nItems for sale at auction include: Amish handcrafted log homes\, log cabins\, log pavilions\, log pergolas\, quilts\, rugs\, handcrafts\, wood indoor and outdoor furniture and more.\nFood includes: Amish baked goods\, charcoal-roasted barbecue chicken\, homemade pies\, ice cream and more.
URL:https://www.visitlibby.org/event/amish-farm-to-market-amish-auction/
LOCATION:Amish Farm To Market
CATEGORIES:Entertainment,Fundraisers,Sale
END:VEVENT
BEGIN:VEVENT
DTSTART;TZID=America/Denver:20250517T090000
DTEND;TZID=America/Denver:20250517T160000
DTSTAMP:20260419T154127
CREATED:20250428T223255Z
LAST-MODIFIED:20250517T164615Z
UID:10000019-1747472400-1747497600@www.visitlibby.org
SUMMARY:Riverbend Restaurant and Saloon: May Soriee
DESCRIPTION:
URL:https://www.visitlibby.org/event/riverbend-restaurant-and-saloon-may-soriee/
LOCATION:Riverbend Restaurant
CATEGORIES:Entertainment,Festivals & Celebrations,Sale,Sports & Recreation
END:VEVENT
BEGIN:VEVENT
DTSTART;TZID=America/Denver:20250515T150000
DTEND;TZID=America/Denver:20250515T183000
DTSTAMP:20260419T154127
CREATED:20250428T223254Z
LAST-MODIFIED:20250428T223254Z
UID:10000017-1747321200-1747333800@www.visitlibby.org
SUMMARY:The Farmers Market at Libby
DESCRIPTION:The Farmers Market at Libby provides a place for local farmers\, artists\, and craftspeople to connect directly with consumers; AND enhances the quality of life in the Libby area by providing a community activity that fosters social gathering and interaction.
URL:https://www.visitlibby.org/event/the-farmers-market-at-libby-5/
LOCATION:The Farmers Market at Libby\, 700 Idaho Ave.
CATEGORIES:Entertainment,Sale
ATTACH;FMTTYPE=image/png:https://www.visitlibby.org/wp-content/uploads/2025/04/The-Farmers-2-e1623873024232-p1obId.tmp_-e1771617660429.png
END:VEVENT
BEGIN:VEVENT
DTSTART;TZID=America/Denver:20250508T150000
DTEND;TZID=America/Denver:20250508T183000
DTSTAMP:20260419T154127
CREATED:20250428T223254Z
LAST-MODIFIED:20250428T223254Z
UID:10000015-1746716400-1746729000@www.visitlibby.org
SUMMARY:The Farmers Market at Libby
DESCRIPTION:The Farmers Market at Libby provides a place for local farmers\, artists\, and craftspeople to connect directly with consumers; AND enhances the quality of life in the Libby area by providing a community activity that fosters social gathering and interaction.
URL:https://www.visitlibby.org/event/the-farmers-market-at-libby-3/
LOCATION:The Farmers Market at Libby\, 700 Idaho Ave.
CATEGORIES:Entertainment,Sale
ATTACH;FMTTYPE=image/png:https://www.visitlibby.org/wp-content/uploads/2025/04/The-Farmers-2-e1623873024232-p1obId.tmp_-e1771617660429.png
END:VEVENT
BEGIN:VEVENT
DTSTART;TZID=America/Denver:20250501T150000
DTEND;TZID=America/Denver:20250501T183000
DTSTAMP:20260419T154127
CREATED:20250428T223250Z
LAST-MODIFIED:20250501T234244Z
UID:10000002-1746111600-1746124200@www.visitlibby.org
SUMMARY:The Farmers Market at Libby
DESCRIPTION:The Farmers Market at Libby provides a place for local farmers\, artists\, and craftspeople to connect directly with consumers; AND enhances the quality of life in the Libby area by providing a community activity that fosters social gathering and interaction.
URL:https://www.visitlibby.org/event/the-farmers-market-at-libby/
LOCATION:The Farmers Market at Libby\, 700 Idaho Ave.
CATEGORIES:Entertainment,Sale
END:VEVENT
END:VCALENDAR