BEGIN:VCALENDAR
VERSION:2.0
PRODID:-//Visit Libby - ECPv6.15.20//NONSGML v1.0//EN
CALSCALE:GREGORIAN
METHOD:PUBLISH
X-ORIGINAL-URL:https://www.visitlibby.org
X-WR-CALDESC:Events for Visit Libby
REFRESH-INTERVAL;VALUE=DURATION:PT1H
X-Robots-Tag:noindex
X-PUBLISHED-TTL:PT1H
BEGIN:VTIMEZONE
TZID:UTC
BEGIN:STANDARD
TZOFFSETFROM:+0000
TZOFFSETTO:+0000
TZNAME:UTC
DTSTART:20240101T000000
END:STANDARD
END:VTIMEZONE
BEGIN:VTIMEZONE
TZID:America/Denver
BEGIN:DAYLIGHT
TZOFFSETFROM:-0700
TZOFFSETTO:-0600
TZNAME:MDT
DTSTART:20240310T090000
END:DAYLIGHT
BEGIN:STANDARD
TZOFFSETFROM:-0600
TZOFFSETTO:-0700
TZNAME:MST
DTSTART:20241103T080000
END:STANDARD
BEGIN:DAYLIGHT
TZOFFSETFROM:-0700
TZOFFSETTO:-0600
TZNAME:MDT
DTSTART:20250309T090000
END:DAYLIGHT
BEGIN:STANDARD
TZOFFSETFROM:-0600
TZOFFSETTO:-0700
TZNAME:MST
DTSTART:20251102T080000
END:STANDARD
BEGIN:DAYLIGHT
TZOFFSETFROM:-0700
TZOFFSETTO:-0600
TZNAME:MDT
DTSTART:20260308T090000
END:DAYLIGHT
BEGIN:STANDARD
TZOFFSETFROM:-0600
TZOFFSETTO:-0700
TZNAME:MST
DTSTART:20261101T080000
END:STANDARD
END:VTIMEZONE
BEGIN:VEVENT
DTSTART;TZID=UTC:20250719T100000
DTEND;TZID=UTC:20250719T170000
DTSTAMP:20260419T141732
CREATED:20250716T171155Z
LAST-MODIFIED:20250716T171520Z
UID:10000159-1752919200-1752944400@www.visitlibby.org
SUMMARY:Dandelion Plant Shop Pop-Up Party
DESCRIPTION:Each year Dandelion Plant Shop posts up outside Managhan’s with a vast array of houseplants for sale. Stop on by starting at 10am\, Saturday\, July 19!
URL:https://www.visitlibby.org/event/dandelion-plant-shop-pop-up-party/
LOCATION:Managhan’s Furniture\, 403 Mineral Ave\, Libby\, MT\, 59923\, United States
CATEGORIES:Sale
ATTACH;FMTTYPE=image/jpeg:https://www.visitlibby.org/wp-content/uploads/2025/07/IMG_2348.jpeg
END:VEVENT
BEGIN:VEVENT
DTSTART;TZID=America/Denver:20250717T150000
DTEND;TZID=America/Denver:20250717T183000
DTSTAMP:20260419T141732
CREATED:20250619T171308Z
LAST-MODIFIED:20250630T192959Z
UID:10000113-1752764400-1752777000@www.visitlibby.org
SUMMARY:The Farmers Market at Libby
DESCRIPTION:The Farmers Market at Libby provides a place for local farmers\, artists\, and craftspeople to connect directly with consumers; AND enhances the quality of life in the Libby area by providing a community activity that fosters social gathering and interaction.
URL:https://www.visitlibby.org/event/the-farmers-market-at-libby-26/
LOCATION:The Farmers Market at Libby\, 700 Idaho Ave.
CATEGORIES:Entertainment,Sale
ATTACH;FMTTYPE=image/png:https://www.visitlibby.org/wp-content/uploads/2025/04/The-Farmers-2-e1623873024232-p1obId.tmp_-e1771617660429.png
END:VEVENT
BEGIN:VEVENT
DTSTART;TZID=UTC:20250711T180000
DTEND;TZID=UTC:20250711T210000
DTSTAMP:20260419T141732
CREATED:20250626T174631Z
LAST-MODIFIED:20250626T174631Z
UID:10000128-1752256800-1752267600@www.visitlibby.org
SUMMARY:Blues Festival Half Price Ticket Sale!
DESCRIPTION:Join us on July 11 from 6-9pm at Cabinet Mountain Brewery for half price Blues Fest tickets. \nFriday Aug 08: Only $20 \nSaturday Aug 09: Only $30 \nSunday Aug 10: Only $45
URL:https://www.visitlibby.org/event/blues-festival-half-price-ticket-sale/
LOCATION:Cabinet Mountain Brewing\, Co.\, 206 Mineral Ave.\, Libby\, MT\, 59923\, United States
CATEGORIES:Entertainment,Sale
END:VEVENT
BEGIN:VEVENT
DTSTART;TZID=America/Denver:20250711T100000
DTEND;TZID=America/Denver:20250711T140000
DTSTAMP:20260419T141732
CREATED:20250628T121308Z
LAST-MODIFIED:20250630T124637Z
UID:10000150-1752228000-1752242400@www.visitlibby.org
SUMMARY:Libby Area Chamber’s CASH MOB!
DESCRIPTION:The Libby Area Chamber is unleashing a friendly ‘cash mob’ on Mountain Meadows July 11th from 10 a.m. to 2 p.m. — because sometimes the best kind of mob scene involves wallets instead of pitchforks!
URL:https://www.visitlibby.org/event/libby-area-chambers-cash-mob-2/
LOCATION:Mountain Meadows\, 1314 Minnesota Ave\, Libby\, MT\, 59923
CATEGORIES:Chamber Events,Sale
ATTACH;FMTTYPE=image/jpeg:https://www.visitlibby.org/wp-content/uploads/2025/06/IMG_2271-SAKRmL.tmp_.jpg
ORGANIZER;CN="Libby Area Chamber of Commerce":MAILTO:info@libbychamber.org
GEO:48.382868;-115.548373
X-APPLE-STRUCTURED-LOCATION;VALUE=URI;X-ADDRESS=Mountain Meadows 1314 Minnesota Ave Libby MT 59923;X-APPLE-RADIUS=500;X-TITLE=1314 Minnesota Ave:geo:-115.548373,48.382868
END:VEVENT
BEGIN:VEVENT
DTSTART;TZID=America/Denver:20250710T150000
DTEND;TZID=America/Denver:20250710T183000
DTSTAMP:20260419T141732
CREATED:20250610T054645Z
LAST-MODIFIED:20250630T192958Z
UID:10000106-1752159600-1752172200@www.visitlibby.org
SUMMARY:The Farmers Market at Libby
DESCRIPTION:The Farmers Market at Libby provides a place for local farmers\, artists\, and craftspeople to connect directly with consumers; AND enhances the quality of life in the Libby area by providing a community activity that fosters social gathering and interaction.
URL:https://www.visitlibby.org/event/the-farmers-market-at-libby-22/
LOCATION:The Farmers Market at Libby\, 700 Idaho Ave.
CATEGORIES:Entertainment,Sale
ATTACH;FMTTYPE=image/png:https://www.visitlibby.org/wp-content/uploads/2025/04/The-Farmers-2-e1623873024232-p1obId.tmp_-e1771617660429.png
END:VEVENT
BEGIN:VEVENT
DTSTART;TZID=America/Denver:20250703T150000
DTEND;TZID=America/Denver:20250703T183000
DTSTAMP:20260419T141732
CREATED:20250516T161554Z
LAST-MODIFIED:20250630T124636Z
UID:10000067-1751554800-1751567400@www.visitlibby.org
SUMMARY:The Farmers Market at Libby
DESCRIPTION:The Farmers Market at Libby provides a place for local farmers\, artists\, and craftspeople to connect directly with consumers; AND enhances the quality of life in the Libby area by providing a community activity that fosters social gathering and interaction.
URL:https://www.visitlibby.org/event/the-farmers-market-at-libby-16/
LOCATION:The Farmers Market at Libby\, 700 Idaho Ave.
CATEGORIES:Entertainment,Sale
ATTACH;FMTTYPE=image/png:https://www.visitlibby.org/wp-content/uploads/2025/04/The-Farmers-2-e1623873024232-p1obId.tmp_-e1771617660429.png
END:VEVENT
BEGIN:VEVENT
DTSTART;TZID=America/Denver:20250626T150000
DTEND;TZID=America/Denver:20250626T183000
DTSTAMP:20260419T141732
CREATED:20250507T215817Z
LAST-MODIFIED:20250626T232835Z
UID:10000055-1750950000-1750962600@www.visitlibby.org
SUMMARY:The Farmers Market at Libby
DESCRIPTION:The Farmers Market at Libby provides a place for local farmers\, artists\, and craftspeople to connect directly with consumers; AND enhances the quality of life in the Libby area by providing a community activity that fosters social gathering and interaction.
URL:https://www.visitlibby.org/event/the-farmers-market-at-libby-13/
LOCATION:The Farmers Market at Libby\, 700 Idaho Ave.
CATEGORIES:Entertainment,Sale
ATTACH;FMTTYPE=image/png:https://www.visitlibby.org/wp-content/uploads/2025/04/The-Farmers-2-e1623873024232-p1obId.tmp_-e1771617660429.png
END:VEVENT
BEGIN:VEVENT
DTSTART;TZID=America/Denver:20250619T150000
DTEND;TZID=America/Denver:20250619T183000
DTSTAMP:20260419T141732
CREATED:20250509T145301Z
LAST-MODIFIED:20250619T214524Z
UID:10000061-1750345200-1750357800@www.visitlibby.org
SUMMARY:The Farmers Market at Libby
DESCRIPTION:The Farmers Market at Libby provides a place for local farmers\, artists\, and craftspeople to connect directly with consumers; AND enhances the quality of life in the Libby area by providing a community activity that fosters social gathering and interaction.
URL:https://www.visitlibby.org/event/the-farmers-market-at-libby-14/
LOCATION:The Farmers Market at Libby\, 700 Idaho Ave.
CATEGORIES:Entertainment,Sale
ATTACH;FMTTYPE=image/png:https://www.visitlibby.org/wp-content/uploads/2025/04/The-Farmers-2-e1623873024232-p1obId.tmp_-e1771617660429.png
END:VEVENT
BEGIN:VEVENT
DTSTART;TZID=America/Denver:20250612T150000
DTEND;TZID=America/Denver:20250612T183000
DTSTAMP:20260419T141732
CREATED:20250428T223259Z
LAST-MODIFIED:20250612T224709Z
UID:10000037-1749740400-1749753000@www.visitlibby.org
SUMMARY:The Farmers Market at Libby
DESCRIPTION:The Farmers Market at Libby provides a place for local farmers\, artists\, and craftspeople to connect directly with consumers; AND enhances the quality of life in the Libby area by providing a community activity that fosters social gathering and interaction.
URL:https://www.visitlibby.org/event/the-farmers-market-at-libby-9/
LOCATION:The Farmers Market at Libby\, 700 Idaho Ave.
CATEGORIES:Entertainment,Sale
ATTACH;FMTTYPE=image/png:https://www.visitlibby.org/wp-content/uploads/2025/04/The-Farmers-2-e1623873024232-p1obId.tmp_-e1771617660429.png
END:VEVENT
BEGIN:VEVENT
DTSTART;TZID=America/Denver:20250605T150000
DTEND;TZID=America/Denver:20250605T183000
DTSTAMP:20260419T141732
CREATED:20250507T215815Z
LAST-MODIFIED:20250605T213241Z
UID:10000047-1749135600-1749148200@www.visitlibby.org
SUMMARY:The Farmers Market at Libby
DESCRIPTION:The Farmers Market at Libby provides a place for local farmers\, artists\, and craftspeople to connect directly with consumers; AND enhances the quality of life in the Libby area by providing a community activity that fosters social gathering and interaction.
URL:https://www.visitlibby.org/event/the-farmers-market-at-libby-10/
LOCATION:The Farmers Market at Libby\, 700 Idaho Ave.
CATEGORIES:Entertainment,Sale
ATTACH;FMTTYPE=image/png:https://www.visitlibby.org/wp-content/uploads/2025/04/The-Farmers-2-e1623873024232-p1obId.tmp_-e1771617660429.png
END:VEVENT
BEGIN:VEVENT
DTSTART;TZID=America/Denver:20250529T150000
DTEND;TZID=America/Denver:20250529T183000
DTSTAMP:20260419T141732
CREATED:20250428T223258Z
LAST-MODIFIED:20250529T194726Z
UID:10000029-1748530800-1748543400@www.visitlibby.org
SUMMARY:The Farmers Market at Libby
DESCRIPTION:The Farmers Market at Libby provides a place for local farmers\, artists\, and craftspeople to connect directly with consumers; AND enhances the quality of life in the Libby area by providing a community activity that fosters social gathering and interaction.
URL:https://www.visitlibby.org/event/the-farmers-market-at-libby-7/
LOCATION:The Farmers Market at Libby\, 700 Idaho Ave.
CATEGORIES:Entertainment,Sale
ATTACH;FMTTYPE=image/png:https://www.visitlibby.org/wp-content/uploads/2025/04/The-Farmers-2-e1623873024232-p1obId.tmp_-e1771617660429.png
END:VEVENT
BEGIN:VEVENT
DTSTART;TZID=America/Denver:20250522T080000
DTEND;TZID=America/Denver:20250522T170000
DTSTAMP:20260419T141732
CREATED:20250428T223257Z
LAST-MODIFIED:20250522T175934Z
UID:10000026-1747900800-1747933200@www.visitlibby.org
SUMMARY:The Farmers Market at Libby
DESCRIPTION:The Farmers Market at Libby provides a place for local farmers\, artists\, and craftspeople to connect directly with consumers; AND enhances the quality of life in the Libby area by providing a community activity that fosters social gathering and interaction.
URL:https://www.visitlibby.org/event/the-farmers-market-at-libby-6/
LOCATION:The Farmers Market at Libby\, 700 Idaho Ave.
CATEGORIES:Entertainment,Sale
ATTACH;FMTTYPE=image/png:https://www.visitlibby.org/wp-content/uploads/2025/04/The-Farmers-2-e1623873024232-p1obId.tmp_-e1771617660429.png
END:VEVENT
BEGIN:VEVENT
DTSTART;TZID=America/Denver:20250517T090000
DTEND;TZID=America/Denver:20250517T170000
DTSTAMP:20260419T141732
CREATED:20250428T223255Z
LAST-MODIFIED:20250517T164615Z
UID:10000020-1747472400-1747501200@www.visitlibby.org
SUMMARY:Amish Farm to Market: Amish Auction
DESCRIPTION:Come join us in the beautiful Eagle Valley! The Amish Auction is a fun\, family friendly experience.\nSome people come for the food and friendship. Many come to find a bargain and some come just to hear the lively auctioneers and witness the excitement of large and small items being sold to the happy bidders!\nItems for sale at auction include: Amish handcrafted log homes\, log cabins\, log pavilions\, log pergolas\, quilts\, rugs\, handcrafts\, wood indoor and outdoor furniture and more.\nFood includes: Amish baked goods\, charcoal-roasted barbecue chicken\, homemade pies\, ice cream and more.
URL:https://www.visitlibby.org/event/amish-farm-to-market-amish-auction/
LOCATION:Amish Farm To Market
CATEGORIES:Entertainment,Fundraisers,Sale
END:VEVENT
BEGIN:VEVENT
DTSTART;TZID=America/Denver:20250517T090000
DTEND;TZID=America/Denver:20250517T160000
DTSTAMP:20260419T141732
CREATED:20250428T223255Z
LAST-MODIFIED:20250517T164615Z
UID:10000019-1747472400-1747497600@www.visitlibby.org
SUMMARY:Riverbend Restaurant and Saloon: May Soriee
DESCRIPTION:
URL:https://www.visitlibby.org/event/riverbend-restaurant-and-saloon-may-soriee/
LOCATION:Riverbend Restaurant
CATEGORIES:Entertainment,Festivals & Celebrations,Sale,Sports & Recreation
END:VEVENT
BEGIN:VEVENT
DTSTART;TZID=America/Denver:20250515T150000
DTEND;TZID=America/Denver:20250515T183000
DTSTAMP:20260419T141732
CREATED:20250428T223254Z
LAST-MODIFIED:20250428T223254Z
UID:10000017-1747321200-1747333800@www.visitlibby.org
SUMMARY:The Farmers Market at Libby
DESCRIPTION:The Farmers Market at Libby provides a place for local farmers\, artists\, and craftspeople to connect directly with consumers; AND enhances the quality of life in the Libby area by providing a community activity that fosters social gathering and interaction.
URL:https://www.visitlibby.org/event/the-farmers-market-at-libby-5/
LOCATION:The Farmers Market at Libby\, 700 Idaho Ave.
CATEGORIES:Entertainment,Sale
ATTACH;FMTTYPE=image/png:https://www.visitlibby.org/wp-content/uploads/2025/04/The-Farmers-2-e1623873024232-p1obId.tmp_-e1771617660429.png
END:VEVENT
BEGIN:VEVENT
DTSTART;TZID=America/Denver:20250508T150000
DTEND;TZID=America/Denver:20250508T183000
DTSTAMP:20260419T141732
CREATED:20250428T223254Z
LAST-MODIFIED:20250428T223254Z
UID:10000015-1746716400-1746729000@www.visitlibby.org
SUMMARY:The Farmers Market at Libby
DESCRIPTION:The Farmers Market at Libby provides a place for local farmers\, artists\, and craftspeople to connect directly with consumers; AND enhances the quality of life in the Libby area by providing a community activity that fosters social gathering and interaction.
URL:https://www.visitlibby.org/event/the-farmers-market-at-libby-3/
LOCATION:The Farmers Market at Libby\, 700 Idaho Ave.
CATEGORIES:Entertainment,Sale
ATTACH;FMTTYPE=image/png:https://www.visitlibby.org/wp-content/uploads/2025/04/The-Farmers-2-e1623873024232-p1obId.tmp_-e1771617660429.png
END:VEVENT
BEGIN:VEVENT
DTSTART;TZID=America/Denver:20250501T150000
DTEND;TZID=America/Denver:20250501T183000
DTSTAMP:20260419T141732
CREATED:20250428T223250Z
LAST-MODIFIED:20250501T234244Z
UID:10000002-1746111600-1746124200@www.visitlibby.org
SUMMARY:The Farmers Market at Libby
DESCRIPTION:The Farmers Market at Libby provides a place for local farmers\, artists\, and craftspeople to connect directly with consumers; AND enhances the quality of life in the Libby area by providing a community activity that fosters social gathering and interaction.
URL:https://www.visitlibby.org/event/the-farmers-market-at-libby/
LOCATION:The Farmers Market at Libby\, 700 Idaho Ave.
CATEGORIES:Entertainment,Sale
END:VEVENT
END:VCALENDAR