BEGIN:VCALENDAR
VERSION:2.0
PRODID:-//Visit Libby - ECPv6.15.20//NONSGML v1.0//EN
CALSCALE:GREGORIAN
METHOD:PUBLISH
X-WR-CALNAME:Visit Libby
X-ORIGINAL-URL:https://www.visitlibby.org
X-WR-CALDESC:Events for Visit Libby
REFRESH-INTERVAL;VALUE=DURATION:PT1H
X-Robots-Tag:noindex
X-PUBLISHED-TTL:PT1H
BEGIN:VTIMEZONE
TZID:UTC
BEGIN:STANDARD
TZOFFSETFROM:+0000
TZOFFSETTO:+0000
TZNAME:UTC
DTSTART:20240101T000000
END:STANDARD
END:VTIMEZONE
BEGIN:VEVENT
DTSTART;TZID=UTC:20251101T080000
DTEND;TZID=UTC:20251101T170000
DTSTAMP:20260423T034244
CREATED:20251006T214330Z
LAST-MODIFIED:20251006T214741Z
UID:10000632-1761984000-1762016400@www.visitlibby.org
SUMMARY:Little Shop of Horrors
DESCRIPTION:Voices Unfolding presents: \nThe Musical\, Little Shop of Horrors \n  \nOctober 31: 6pm (DONATION NIGHT) \nNovember 01: 2pm & 7pm \nNovember 07: 7pm \nNovember 08: 2pm & 7pm \n  \nTickets $15/adults\, $10/students \nTickets available @ Kaiju Bar\, Hav-A-Java\, and Pink Bench Distilling (Troy)
URL:https://www.visitlibby.org/event/little-shop-of-horrors/2025-11-01/
LOCATION:W. K. Maki Theater\, 724 Louisiana Ave.\, Libby\, MT\, 59923
CATEGORIES:Entertainment,Family Events,Fundraisers
ATTACH;FMTTYPE=image/jpeg:https://www.visitlibby.org/wp-content/uploads/2025/10/IMG_2666-e1760736349252.jpeg
END:VEVENT
BEGIN:VEVENT
DTSTART;TZID=UTC:20251106T190000
DTEND;TZID=UTC:20251106T200000
DTSTAMP:20260423T034244
CREATED:20251007T214050Z
LAST-MODIFIED:20251007T214050Z
UID:10000669-1762455600-1762459200@www.visitlibby.org
SUMMARY:Turner Mountain Movie Fundraiser
DESCRIPTION:We are Excited to Announce the Warren Miller movie\, SNO-Ciety\, for our Turner Mountain Fundraiser on Thursday\, November 6th.\nDoors Open at 6PM. Show Begins at 7PM.\nBuy Your Tickets NOW $20 at Cabinet Mountain Brewing Company\, Studio B\, and Jay Forsyth.
URL:https://www.visitlibby.org/event/turner-mountain-movie-fundraiser/
LOCATION:Dome Theater\, 602 Mineral Ave.\, Libby\, MT\, 59923
CATEGORIES:Entertainment,Fundraisers
ATTACH;FMTTYPE=image/jpeg:https://www.visitlibby.org/wp-content/uploads/2025/10/553004999_1304868591342654_6216739379708179116_n-e1759873175431.jpg
END:VEVENT
BEGIN:VEVENT
DTSTART;TZID=UTC:20251107T190000
DTEND;TZID=UTC:20251107T210000
DTSTAMP:20260423T034244
CREATED:20251006T214514Z
LAST-MODIFIED:20251017T212638Z
UID:10000448-1762542000-1762549200@www.visitlibby.org
SUMMARY:Little Shop of Horrors
DESCRIPTION:Voices Unfolding presents: \nThe Musical\, Little Shop of Horrors \n  \nOctober 31: 6pm (DONATION NIGHT) \nNovember 01: 2pm & 7pm \nNovember 07: 7pm \nNovember 08: 2pm & 7pm \n  \nTickets $15/adults\, $10/students \nTickets available @ Kaiju Bar\, Hav-A-Java\, and Pink Bench Distilling (Troy)
URL:https://www.visitlibby.org/event/little-shop-of-horrors-2/2025-11-07/
LOCATION:W. K. Maki Theater\, 724 Louisiana Ave.\, Libby\, MT\, 59923
CATEGORIES:Entertainment,Family Events,Fundraisers
END:VEVENT
BEGIN:VEVENT
DTSTART;TZID=UTC:20251108T080000
DTEND;TZID=UTC:20251108T190000
DTSTAMP:20260423T034244
CREATED:20251006T214514Z
LAST-MODIFIED:20251017T212638Z
UID:10000633-1762588800-1762628400@www.visitlibby.org
SUMMARY:Little Shop of Horrors
DESCRIPTION:Voices Unfolding presents: \nThe Musical\, Little Shop of Horrors \n  \nOctober 31: 6pm (DONATION NIGHT) \nNovember 01: 2pm & 7pm \nNovember 07: 7pm \nNovember 08: 2pm & 7pm \n  \nTickets $15/adults\, $10/students \nTickets available @ Kaiju Bar\, Hav-A-Java\, and Pink Bench Distilling (Troy)
URL:https://www.visitlibby.org/event/little-shop-of-horrors-2/2025-11-08/
LOCATION:W. K. Maki Theater\, 724 Louisiana Ave.\, Libby\, MT\, 59923
CATEGORIES:Entertainment,Family Events,Fundraisers
END:VEVENT
END:VCALENDAR