BEGIN:VCALENDAR
VERSION:2.0
PRODID:-//Visit Libby - ECPv6.15.20//NONSGML v1.0//EN
CALSCALE:GREGORIAN
METHOD:PUBLISH
X-ORIGINAL-URL:https://www.visitlibby.org
X-WR-CALDESC:Events for Visit Libby
REFRESH-INTERVAL;VALUE=DURATION:PT1H
X-Robots-Tag:noindex
X-PUBLISHED-TTL:PT1H
BEGIN:VTIMEZONE
TZID:UTC
BEGIN:STANDARD
TZOFFSETFROM:+0000
TZOFFSETTO:+0000
TZNAME:UTC
DTSTART:20240101T000000
END:STANDARD
END:VTIMEZONE
BEGIN:VEVENT
DTSTART;TZID=UTC:20251106T190000
DTEND;TZID=UTC:20251106T200000
DTSTAMP:20260420T085247
CREATED:20251007T214050Z
LAST-MODIFIED:20251007T214050Z
UID:10000669-1762455600-1762459200@www.visitlibby.org
SUMMARY:Turner Mountain Movie Fundraiser
DESCRIPTION:We are Excited to Announce the Warren Miller movie\, SNO-Ciety\, for our Turner Mountain Fundraiser on Thursday\, November 6th.\nDoors Open at 6PM. Show Begins at 7PM.\nBuy Your Tickets NOW $20 at Cabinet Mountain Brewing Company\, Studio B\, and Jay Forsyth.
URL:https://www.visitlibby.org/event/turner-mountain-movie-fundraiser/
LOCATION:Dome Theater\, 602 Mineral Ave.\, Libby\, MT\, 59923
CATEGORIES:Entertainment,Fundraisers
ATTACH;FMTTYPE=image/jpeg:https://www.visitlibby.org/wp-content/uploads/2025/10/553004999_1304868591342654_6216739379708179116_n-e1759873175431.jpg
END:VEVENT
BEGIN:VEVENT
DTSTART;TZID=UTC:20251106T190000
DTEND;TZID=UTC:20251106T210000
DTSTAMP:20260420T085247
CREATED:20251010T215644Z
LAST-MODIFIED:20251010T215644Z
UID:10000737-1762455600-1762462800@www.visitlibby.org
SUMMARY:Trivia Night at RWBs
DESCRIPTION:Join the Brews Crew Thursdays for an interesting\, obscure\, or little-known facts and information\, fun filled quiz. Our Trivia can cover a wide range of topics\, such as history\, science\, sports\, music\, movies\, literature\, and more. It’s a fun way to learn new things\, challenge oneself\, or entertain others with surprising and often quirky facts.
URL:https://www.visitlibby.org/event/trivia-night-at-rwbs/2025-11-06/
LOCATION:Red\, White\, & Brews
CATEGORIES:Entertainment
ATTACH;FMTTYPE=image/png:https://www.visitlibby.org/wp-content/uploads/2025/04/rwb-MT-logo-e1743116515917-3uF6Z3.tmp_-e1760132675615.png
END:VEVENT
BEGIN:VEVENT
DTSTART;TZID=UTC:20251107T190000
DTEND;TZID=UTC:20251107T210000
DTSTAMP:20260420T085247
CREATED:20251006T214514Z
LAST-MODIFIED:20251017T212638Z
UID:10000448-1762542000-1762549200@www.visitlibby.org
SUMMARY:Little Shop of Horrors
DESCRIPTION:Voices Unfolding presents: \nThe Musical\, Little Shop of Horrors \n  \nOctober 31: 6pm (DONATION NIGHT) \nNovember 01: 2pm & 7pm \nNovember 07: 7pm \nNovember 08: 2pm & 7pm \n  \nTickets $15/adults\, $10/students \nTickets available @ Kaiju Bar\, Hav-A-Java\, and Pink Bench Distilling (Troy)
URL:https://www.visitlibby.org/event/little-shop-of-horrors-2/2025-11-07/
LOCATION:W. K. Maki Theater\, 724 Louisiana Ave.\, Libby\, MT\, 59923
CATEGORIES:Entertainment,Family Events,Fundraisers
END:VEVENT
BEGIN:VEVENT
DTSTART;TZID=UTC:20251108T080000
DTEND;TZID=UTC:20251108T190000
DTSTAMP:20260420T085247
CREATED:20251006T214514Z
LAST-MODIFIED:20251017T212638Z
UID:10000633-1762588800-1762628400@www.visitlibby.org
SUMMARY:Little Shop of Horrors
DESCRIPTION:Voices Unfolding presents: \nThe Musical\, Little Shop of Horrors \n  \nOctober 31: 6pm (DONATION NIGHT) \nNovember 01: 2pm & 7pm \nNovember 07: 7pm \nNovember 08: 2pm & 7pm \n  \nTickets $15/adults\, $10/students \nTickets available @ Kaiju Bar\, Hav-A-Java\, and Pink Bench Distilling (Troy)
URL:https://www.visitlibby.org/event/little-shop-of-horrors-2/2025-11-08/
LOCATION:W. K. Maki Theater\, 724 Louisiana Ave.\, Libby\, MT\, 59923
CATEGORIES:Entertainment,Family Events,Fundraisers
END:VEVENT
BEGIN:VEVENT
DTSTART;TZID=UTC:20251111T180000
DTEND;TZID=UTC:20251111T193000
DTSTAMP:20260420T085247
CREATED:20251007T212151Z
LAST-MODIFIED:20251007T212151Z
UID:10000643-1762884000-1762889400@www.visitlibby.org
SUMMARY:Taproom Trivia at the Brewery
DESCRIPTION:Test your knowledge of the mundane while enjoying handcrafted beer in Libby’s living room. Nightly and season-ending prizes.  Teams of 1-5. \nIt’s the best thing going on Tuesday night!
URL:https://www.visitlibby.org/event/taproom-trivia-at-the-brewery/2025-11-11/
LOCATION:Cabinet Mountain Brewing\, 2 Ave C\, Libby\, MT\, United States
CATEGORIES:Entertainment
ATTACH;FMTTYPE=image/png:https://www.visitlibby.org/wp-content/uploads/2025/05/cabinetmt-bn9Zku.tmp_.png
GEO:48.390406;-115.577054
X-APPLE-STRUCTURED-LOCATION;VALUE=URI;X-ADDRESS=Cabinet Mountain Brewing 2 Ave C Libby MT United States;X-APPLE-RADIUS=500;X-TITLE=2 Ave C:geo:-115.577054,48.390406
END:VEVENT
BEGIN:VEVENT
DTSTART;TZID=UTC:20251113T190000
DTEND;TZID=UTC:20251113T210000
DTSTAMP:20260420T085247
CREATED:20251010T215644Z
LAST-MODIFIED:20251010T215644Z
UID:10000738-1763060400-1763067600@www.visitlibby.org
SUMMARY:Trivia Night at RWBs
DESCRIPTION:Join the Brews Crew Thursdays for an interesting\, obscure\, or little-known facts and information\, fun filled quiz. Our Trivia can cover a wide range of topics\, such as history\, science\, sports\, music\, movies\, literature\, and more. It’s a fun way to learn new things\, challenge oneself\, or entertain others with surprising and often quirky facts.
URL:https://www.visitlibby.org/event/trivia-night-at-rwbs/2025-11-13/
LOCATION:Red\, White\, & Brews
CATEGORIES:Entertainment
ATTACH;FMTTYPE=image/png:https://www.visitlibby.org/wp-content/uploads/2025/04/rwb-MT-logo-e1743116515917-3uF6Z3.tmp_-e1760132675615.png
END:VEVENT
BEGIN:VEVENT
DTSTART;TZID=UTC:20251118T180000
DTEND;TZID=UTC:20251118T193000
DTSTAMP:20260420T085247
CREATED:20251007T212151Z
LAST-MODIFIED:20251007T212151Z
UID:10000644-1763488800-1763494200@www.visitlibby.org
SUMMARY:Taproom Trivia at the Brewery
DESCRIPTION:Test your knowledge of the mundane while enjoying handcrafted beer in Libby’s living room. Nightly and season-ending prizes.  Teams of 1-5. \nIt’s the best thing going on Tuesday night!
URL:https://www.visitlibby.org/event/taproom-trivia-at-the-brewery/2025-11-18/
LOCATION:Cabinet Mountain Brewing\, 2 Ave C\, Libby\, MT\, United States
CATEGORIES:Entertainment
ATTACH;FMTTYPE=image/png:https://www.visitlibby.org/wp-content/uploads/2025/05/cabinetmt-bn9Zku.tmp_.png
GEO:48.390406;-115.577054
X-APPLE-STRUCTURED-LOCATION;VALUE=URI;X-ADDRESS=Cabinet Mountain Brewing 2 Ave C Libby MT United States;X-APPLE-RADIUS=500;X-TITLE=2 Ave C:geo:-115.577054,48.390406
END:VEVENT
BEGIN:VEVENT
DTSTART;TZID=UTC:20251120T190000
DTEND;TZID=UTC:20251120T210000
DTSTAMP:20260420T085247
CREATED:20251010T215644Z
LAST-MODIFIED:20251010T215644Z
UID:10000739-1763665200-1763672400@www.visitlibby.org
SUMMARY:Trivia Night at RWBs
DESCRIPTION:Join the Brews Crew Thursdays for an interesting\, obscure\, or little-known facts and information\, fun filled quiz. Our Trivia can cover a wide range of topics\, such as history\, science\, sports\, music\, movies\, literature\, and more. It’s a fun way to learn new things\, challenge oneself\, or entertain others with surprising and often quirky facts.
URL:https://www.visitlibby.org/event/trivia-night-at-rwbs/2025-11-20/
LOCATION:Red\, White\, & Brews
CATEGORIES:Entertainment
ATTACH;FMTTYPE=image/png:https://www.visitlibby.org/wp-content/uploads/2025/04/rwb-MT-logo-e1743116515917-3uF6Z3.tmp_-e1760132675615.png
END:VEVENT
BEGIN:VEVENT
DTSTART;TZID=UTC:20251121T180000
DTEND;TZID=UTC:20251121T210000
DTSTAMP:20260420T085247
CREATED:20251121T205713Z
LAST-MODIFIED:20251121T205713Z
UID:10000764-1763748000-1763758800@www.visitlibby.org
SUMMARY:Way Down North live at the Brewery!
DESCRIPTION:This Americana duo plays a lively set!
URL:https://www.visitlibby.org/event/way-down-north-live-at-the-brewery/
LOCATION:Cabinet Mountain Brewing\, Co.\, 206 Mineral Ave.\, Libby\, MT\, 59923\, United States
CATEGORIES:Entertainment
ATTACH;FMTTYPE=image/png:https://www.visitlibby.org/wp-content/uploads/2025/11/Screenshot-2025-11-21-134958-e1763758606493.png
END:VEVENT
BEGIN:VEVENT
DTSTART;TZID=UTC:20251125T180000
DTEND;TZID=UTC:20251125T193000
DTSTAMP:20260420T085247
CREATED:20251007T212151Z
LAST-MODIFIED:20251007T212151Z
UID:10000645-1764093600-1764099000@www.visitlibby.org
SUMMARY:Taproom Trivia at the Brewery
DESCRIPTION:Test your knowledge of the mundane while enjoying handcrafted beer in Libby’s living room. Nightly and season-ending prizes.  Teams of 1-5. \nIt’s the best thing going on Tuesday night!
URL:https://www.visitlibby.org/event/taproom-trivia-at-the-brewery/2025-11-25/
LOCATION:Cabinet Mountain Brewing\, 2 Ave C\, Libby\, MT\, United States
CATEGORIES:Entertainment
ATTACH;FMTTYPE=image/png:https://www.visitlibby.org/wp-content/uploads/2025/05/cabinetmt-bn9Zku.tmp_.png
GEO:48.390406;-115.577054
X-APPLE-STRUCTURED-LOCATION;VALUE=URI;X-ADDRESS=Cabinet Mountain Brewing 2 Ave C Libby MT United States;X-APPLE-RADIUS=500;X-TITLE=2 Ave C:geo:-115.577054,48.390406
END:VEVENT
BEGIN:VEVENT
DTSTART;TZID=UTC:20251127T190000
DTEND;TZID=UTC:20251127T210000
DTSTAMP:20260420T085247
CREATED:20251010T215644Z
LAST-MODIFIED:20251010T215644Z
UID:10000740-1764270000-1764277200@www.visitlibby.org
SUMMARY:Trivia Night at RWBs
DESCRIPTION:Join the Brews Crew Thursdays for an interesting\, obscure\, or little-known facts and information\, fun filled quiz. Our Trivia can cover a wide range of topics\, such as history\, science\, sports\, music\, movies\, literature\, and more. It’s a fun way to learn new things\, challenge oneself\, or entertain others with surprising and often quirky facts.
URL:https://www.visitlibby.org/event/trivia-night-at-rwbs/2025-11-27/
LOCATION:Red\, White\, & Brews
CATEGORIES:Entertainment
ATTACH;FMTTYPE=image/png:https://www.visitlibby.org/wp-content/uploads/2025/04/rwb-MT-logo-e1743116515917-3uF6Z3.tmp_-e1760132675615.png
END:VEVENT
BEGIN:VEVENT
DTSTART;TZID=UTC:20251202T180000
DTEND;TZID=UTC:20251202T193000
DTSTAMP:20260420T085247
CREATED:20251007T212151Z
LAST-MODIFIED:20251007T212151Z
UID:10000646-1764698400-1764703800@www.visitlibby.org
SUMMARY:Taproom Trivia at the Brewery
DESCRIPTION:Test your knowledge of the mundane while enjoying handcrafted beer in Libby’s living room. Nightly and season-ending prizes.  Teams of 1-5. \nIt’s the best thing going on Tuesday night!
URL:https://www.visitlibby.org/event/taproom-trivia-at-the-brewery/2025-12-02/
LOCATION:Cabinet Mountain Brewing\, 2 Ave C\, Libby\, MT\, United States
CATEGORIES:Entertainment
ATTACH;FMTTYPE=image/png:https://www.visitlibby.org/wp-content/uploads/2025/05/cabinetmt-bn9Zku.tmp_.png
GEO:48.390406;-115.577054
X-APPLE-STRUCTURED-LOCATION;VALUE=URI;X-ADDRESS=Cabinet Mountain Brewing 2 Ave C Libby MT United States;X-APPLE-RADIUS=500;X-TITLE=2 Ave C:geo:-115.577054,48.390406
END:VEVENT
BEGIN:VEVENT
DTSTART;TZID=UTC:20251204T190000
DTEND;TZID=UTC:20251204T210000
DTSTAMP:20260420T085247
CREATED:20251010T215644Z
LAST-MODIFIED:20251010T215644Z
UID:10000741-1764874800-1764882000@www.visitlibby.org
SUMMARY:Trivia Night at RWBs
DESCRIPTION:Join the Brews Crew Thursdays for an interesting\, obscure\, or little-known facts and information\, fun filled quiz. Our Trivia can cover a wide range of topics\, such as history\, science\, sports\, music\, movies\, literature\, and more. It’s a fun way to learn new things\, challenge oneself\, or entertain others with surprising and often quirky facts.
URL:https://www.visitlibby.org/event/trivia-night-at-rwbs/2025-12-04/
LOCATION:Red\, White\, & Brews
CATEGORIES:Entertainment
ATTACH;FMTTYPE=image/png:https://www.visitlibby.org/wp-content/uploads/2025/04/rwb-MT-logo-e1743116515917-3uF6Z3.tmp_-e1760132675615.png
END:VEVENT
BEGIN:VEVENT
DTSTART;TZID=UTC:20251209T180000
DTEND;TZID=UTC:20251209T193000
DTSTAMP:20260420T085247
CREATED:20251007T212151Z
LAST-MODIFIED:20251007T212151Z
UID:10000647-1765303200-1765308600@www.visitlibby.org
SUMMARY:Taproom Trivia at the Brewery
DESCRIPTION:Test your knowledge of the mundane while enjoying handcrafted beer in Libby’s living room. Nightly and season-ending prizes.  Teams of 1-5. \nIt’s the best thing going on Tuesday night!
URL:https://www.visitlibby.org/event/taproom-trivia-at-the-brewery/2025-12-09/
LOCATION:Cabinet Mountain Brewing\, 2 Ave C\, Libby\, MT\, United States
CATEGORIES:Entertainment
ATTACH;FMTTYPE=image/png:https://www.visitlibby.org/wp-content/uploads/2025/05/cabinetmt-bn9Zku.tmp_.png
GEO:48.390406;-115.577054
X-APPLE-STRUCTURED-LOCATION;VALUE=URI;X-ADDRESS=Cabinet Mountain Brewing 2 Ave C Libby MT United States;X-APPLE-RADIUS=500;X-TITLE=2 Ave C:geo:-115.577054,48.390406
END:VEVENT
BEGIN:VEVENT
DTSTART;TZID=UTC:20251211T190000
DTEND;TZID=UTC:20251211T210000
DTSTAMP:20260420T085247
CREATED:20251010T215644Z
LAST-MODIFIED:20251010T215644Z
UID:10000742-1765479600-1765486800@www.visitlibby.org
SUMMARY:Trivia Night at RWBs
DESCRIPTION:Join the Brews Crew Thursdays for an interesting\, obscure\, or little-known facts and information\, fun filled quiz. Our Trivia can cover a wide range of topics\, such as history\, science\, sports\, music\, movies\, literature\, and more. It’s a fun way to learn new things\, challenge oneself\, or entertain others with surprising and often quirky facts.
URL:https://www.visitlibby.org/event/trivia-night-at-rwbs/2025-12-11/
LOCATION:Red\, White\, & Brews
CATEGORIES:Entertainment
ATTACH;FMTTYPE=image/png:https://www.visitlibby.org/wp-content/uploads/2025/04/rwb-MT-logo-e1743116515917-3uF6Z3.tmp_-e1760132675615.png
END:VEVENT
BEGIN:VEVENT
DTSTART;TZID=UTC:20251212T190000
DTEND;TZID=UTC:20251212T200000
DTSTAMP:20260420T085247
CREATED:20251209T181022Z
LAST-MODIFIED:20251209T181022Z
UID:10000769-1765566000-1765569600@www.visitlibby.org
SUMMARY:Celebration of Christ
DESCRIPTION:Christmas Concert \nDecember 12\, 7pm \nThe Church of Jesus Christ of Latter-day Saints \nLight refreshments will be provided
URL:https://www.visitlibby.org/event/celebration-of-christ/
LOCATION:Church of Jesus Christ of Latter-day Saints\, 2056 Hwy 2\, Libby\, MT\, 59923\, United States
CATEGORIES:Entertainment,Family Events,Festivals & Celebrations
END:VEVENT
BEGIN:VEVENT
DTSTART;TZID=UTC:20251214T150000
DTEND;TZID=UTC:20251214T160000
DTSTAMP:20260420T085247
CREATED:20251209T181259Z
LAST-MODIFIED:20251209T181259Z
UID:10000770-1765724400-1765728000@www.visitlibby.org
SUMMARY:Handel’s Messiah
DESCRIPTION:December 14\, 3pm \nAssembly of God Church
URL:https://www.visitlibby.org/event/handels-messiah/
LOCATION:Assembly of God Church\, 101 Collins Ave\, Libby\, MT\, 59923\, United States
CATEGORIES:Entertainment,Family Events,Festivals & Celebrations
END:VEVENT
BEGIN:VEVENT
DTSTART;TZID=UTC:20251215T190000
DTEND;TZID=UTC:20251215T200000
DTSTAMP:20260420T085247
CREATED:20251209T180729Z
LAST-MODIFIED:20251209T181755Z
UID:10000768-1765825200-1765828800@www.visitlibby.org
SUMMARY:Christmas Concert
DESCRIPTION:December 15\, 7pm at the Memorial Events Center \nfeaturing: \nLibby Children Select Choir and Honors Choir \nMarcia Lydiard: cello \nOlivia Hewston: vocal \nBrook Williams: vocal
URL:https://www.visitlibby.org/event/christmas-concert/
LOCATION:Memorial Event Center\, 111 E Lincoln Blvd\, Libby\, 59923\, United States
CATEGORIES:Entertainment,Family Events,Festivals & Celebrations
ATTACH;FMTTYPE=image/jpeg:https://www.visitlibby.org/wp-content/uploads/2025/12/IMG_2784-scaled-e1765304266793.jpeg
END:VEVENT
BEGIN:VEVENT
DTSTART;TZID=UTC:20251216T180000
DTEND;TZID=UTC:20251216T193000
DTSTAMP:20260420T085247
CREATED:20251007T212151Z
LAST-MODIFIED:20251007T212151Z
UID:10000648-1765908000-1765913400@www.visitlibby.org
SUMMARY:Taproom Trivia at the Brewery
DESCRIPTION:Test your knowledge of the mundane while enjoying handcrafted beer in Libby’s living room. Nightly and season-ending prizes.  Teams of 1-5. \nIt’s the best thing going on Tuesday night!
URL:https://www.visitlibby.org/event/taproom-trivia-at-the-brewery/2025-12-16/
LOCATION:Cabinet Mountain Brewing\, 2 Ave C\, Libby\, MT\, United States
CATEGORIES:Entertainment
ATTACH;FMTTYPE=image/png:https://www.visitlibby.org/wp-content/uploads/2025/05/cabinetmt-bn9Zku.tmp_.png
GEO:48.390406;-115.577054
X-APPLE-STRUCTURED-LOCATION;VALUE=URI;X-ADDRESS=Cabinet Mountain Brewing 2 Ave C Libby MT United States;X-APPLE-RADIUS=500;X-TITLE=2 Ave C:geo:-115.577054,48.390406
END:VEVENT
BEGIN:VEVENT
DTSTART;TZID=UTC:20251218T190000
DTEND;TZID=UTC:20251218T210000
DTSTAMP:20260420T085247
CREATED:20251010T215644Z
LAST-MODIFIED:20251010T215644Z
UID:10000743-1766084400-1766091600@www.visitlibby.org
SUMMARY:Trivia Night at RWBs
DESCRIPTION:Join the Brews Crew Thursdays for an interesting\, obscure\, or little-known facts and information\, fun filled quiz. Our Trivia can cover a wide range of topics\, such as history\, science\, sports\, music\, movies\, literature\, and more. It’s a fun way to learn new things\, challenge oneself\, or entertain others with surprising and often quirky facts.
URL:https://www.visitlibby.org/event/trivia-night-at-rwbs/2025-12-18/
LOCATION:Red\, White\, & Brews
CATEGORIES:Entertainment
ATTACH;FMTTYPE=image/png:https://www.visitlibby.org/wp-content/uploads/2025/04/rwb-MT-logo-e1743116515917-3uF6Z3.tmp_-e1760132675615.png
END:VEVENT
BEGIN:VEVENT
DTSTART;TZID=UTC:20251223T180000
DTEND;TZID=UTC:20251223T193000
DTSTAMP:20260420T085247
CREATED:20251007T212151Z
LAST-MODIFIED:20251007T212151Z
UID:10000649-1766512800-1766518200@www.visitlibby.org
SUMMARY:Taproom Trivia at the Brewery
DESCRIPTION:Test your knowledge of the mundane while enjoying handcrafted beer in Libby’s living room. Nightly and season-ending prizes.  Teams of 1-5. \nIt’s the best thing going on Tuesday night!
URL:https://www.visitlibby.org/event/taproom-trivia-at-the-brewery/2025-12-23/
LOCATION:Cabinet Mountain Brewing\, 2 Ave C\, Libby\, MT\, United States
CATEGORIES:Entertainment
ATTACH;FMTTYPE=image/png:https://www.visitlibby.org/wp-content/uploads/2025/05/cabinetmt-bn9Zku.tmp_.png
GEO:48.390406;-115.577054
X-APPLE-STRUCTURED-LOCATION;VALUE=URI;X-ADDRESS=Cabinet Mountain Brewing 2 Ave C Libby MT United States;X-APPLE-RADIUS=500;X-TITLE=2 Ave C:geo:-115.577054,48.390406
END:VEVENT
BEGIN:VEVENT
DTSTART;TZID=UTC:20251225T190000
DTEND;TZID=UTC:20251225T210000
DTSTAMP:20260420T085247
CREATED:20251010T215644Z
LAST-MODIFIED:20251010T215644Z
UID:10000744-1766689200-1766696400@www.visitlibby.org
SUMMARY:Trivia Night at RWBs
DESCRIPTION:Join the Brews Crew Thursdays for an interesting\, obscure\, or little-known facts and information\, fun filled quiz. Our Trivia can cover a wide range of topics\, such as history\, science\, sports\, music\, movies\, literature\, and more. It’s a fun way to learn new things\, challenge oneself\, or entertain others with surprising and often quirky facts.
URL:https://www.visitlibby.org/event/trivia-night-at-rwbs/2025-12-25/
LOCATION:Red\, White\, & Brews
CATEGORIES:Entertainment
ATTACH;FMTTYPE=image/png:https://www.visitlibby.org/wp-content/uploads/2025/04/rwb-MT-logo-e1743116515917-3uF6Z3.tmp_-e1760132675615.png
END:VEVENT
BEGIN:VEVENT
DTSTART;TZID=UTC:20251230T180000
DTEND;TZID=UTC:20251230T193000
DTSTAMP:20260420T085247
CREATED:20251007T212151Z
LAST-MODIFIED:20251007T212151Z
UID:10000650-1767117600-1767123000@www.visitlibby.org
SUMMARY:Taproom Trivia at the Brewery
DESCRIPTION:Test your knowledge of the mundane while enjoying handcrafted beer in Libby’s living room. Nightly and season-ending prizes.  Teams of 1-5. \nIt’s the best thing going on Tuesday night!
URL:https://www.visitlibby.org/event/taproom-trivia-at-the-brewery/2025-12-30/
LOCATION:Cabinet Mountain Brewing\, 2 Ave C\, Libby\, MT\, United States
CATEGORIES:Entertainment
ATTACH;FMTTYPE=image/png:https://www.visitlibby.org/wp-content/uploads/2025/05/cabinetmt-bn9Zku.tmp_.png
GEO:48.390406;-115.577054
X-APPLE-STRUCTURED-LOCATION;VALUE=URI;X-ADDRESS=Cabinet Mountain Brewing 2 Ave C Libby MT United States;X-APPLE-RADIUS=500;X-TITLE=2 Ave C:geo:-115.577054,48.390406
END:VEVENT
BEGIN:VEVENT
DTSTART;TZID=UTC:20260101T190000
DTEND;TZID=UTC:20260101T210000
DTSTAMP:20260420T085247
CREATED:20251010T215644Z
LAST-MODIFIED:20251010T215644Z
UID:10000745-1767294000-1767301200@www.visitlibby.org
SUMMARY:Trivia Night at RWBs
DESCRIPTION:Join the Brews Crew Thursdays for an interesting\, obscure\, or little-known facts and information\, fun filled quiz. Our Trivia can cover a wide range of topics\, such as history\, science\, sports\, music\, movies\, literature\, and more. It’s a fun way to learn new things\, challenge oneself\, or entertain others with surprising and often quirky facts.
URL:https://www.visitlibby.org/event/trivia-night-at-rwbs/2026-01-01/
LOCATION:Red\, White\, & Brews
CATEGORIES:Entertainment
ATTACH;FMTTYPE=image/png:https://www.visitlibby.org/wp-content/uploads/2025/04/rwb-MT-logo-e1743116515917-3uF6Z3.tmp_-e1760132675615.png
END:VEVENT
BEGIN:VEVENT
DTSTART;TZID=UTC:20260106T180000
DTEND;TZID=UTC:20260106T193000
DTSTAMP:20260420T085247
CREATED:20251007T212151Z
LAST-MODIFIED:20251007T212151Z
UID:10000651-1767722400-1767727800@www.visitlibby.org
SUMMARY:Taproom Trivia at the Brewery
DESCRIPTION:Test your knowledge of the mundane while enjoying handcrafted beer in Libby’s living room. Nightly and season-ending prizes.  Teams of 1-5. \nIt’s the best thing going on Tuesday night!
URL:https://www.visitlibby.org/event/taproom-trivia-at-the-brewery/2026-01-06/
LOCATION:Cabinet Mountain Brewing\, 2 Ave C\, Libby\, MT\, United States
CATEGORIES:Entertainment
ATTACH;FMTTYPE=image/png:https://www.visitlibby.org/wp-content/uploads/2025/05/cabinetmt-bn9Zku.tmp_.png
GEO:48.390406;-115.577054
X-APPLE-STRUCTURED-LOCATION;VALUE=URI;X-ADDRESS=Cabinet Mountain Brewing 2 Ave C Libby MT United States;X-APPLE-RADIUS=500;X-TITLE=2 Ave C:geo:-115.577054,48.390406
END:VEVENT
BEGIN:VEVENT
DTSTART;TZID=UTC:20260108T190000
DTEND;TZID=UTC:20260108T210000
DTSTAMP:20260420T085247
CREATED:20251010T215644Z
LAST-MODIFIED:20251010T215644Z
UID:10000746-1767898800-1767906000@www.visitlibby.org
SUMMARY:Trivia Night at RWBs
DESCRIPTION:Join the Brews Crew Thursdays for an interesting\, obscure\, or little-known facts and information\, fun filled quiz. Our Trivia can cover a wide range of topics\, such as history\, science\, sports\, music\, movies\, literature\, and more. It’s a fun way to learn new things\, challenge oneself\, or entertain others with surprising and often quirky facts.
URL:https://www.visitlibby.org/event/trivia-night-at-rwbs/2026-01-08/
LOCATION:Red\, White\, & Brews
CATEGORIES:Entertainment
ATTACH;FMTTYPE=image/png:https://www.visitlibby.org/wp-content/uploads/2025/04/rwb-MT-logo-e1743116515917-3uF6Z3.tmp_-e1760132675615.png
END:VEVENT
BEGIN:VEVENT
DTSTART;TZID=UTC:20260113T180000
DTEND;TZID=UTC:20260113T193000
DTSTAMP:20260420T085247
CREATED:20251007T212151Z
LAST-MODIFIED:20251007T212151Z
UID:10000652-1768327200-1768332600@www.visitlibby.org
SUMMARY:Taproom Trivia at the Brewery
DESCRIPTION:Test your knowledge of the mundane while enjoying handcrafted beer in Libby’s living room. Nightly and season-ending prizes.  Teams of 1-5. \nIt’s the best thing going on Tuesday night!
URL:https://www.visitlibby.org/event/taproom-trivia-at-the-brewery/2026-01-13/
LOCATION:Cabinet Mountain Brewing\, 2 Ave C\, Libby\, MT\, United States
CATEGORIES:Entertainment
ATTACH;FMTTYPE=image/png:https://www.visitlibby.org/wp-content/uploads/2025/05/cabinetmt-bn9Zku.tmp_.png
GEO:48.390406;-115.577054
X-APPLE-STRUCTURED-LOCATION;VALUE=URI;X-ADDRESS=Cabinet Mountain Brewing 2 Ave C Libby MT United States;X-APPLE-RADIUS=500;X-TITLE=2 Ave C:geo:-115.577054,48.390406
END:VEVENT
BEGIN:VEVENT
DTSTART;TZID=UTC:20260115T190000
DTEND;TZID=UTC:20260115T210000
DTSTAMP:20260420T085247
CREATED:20251010T215644Z
LAST-MODIFIED:20251010T215644Z
UID:10000747-1768503600-1768510800@www.visitlibby.org
SUMMARY:Trivia Night at RWBs
DESCRIPTION:Join the Brews Crew Thursdays for an interesting\, obscure\, or little-known facts and information\, fun filled quiz. Our Trivia can cover a wide range of topics\, such as history\, science\, sports\, music\, movies\, literature\, and more. It’s a fun way to learn new things\, challenge oneself\, or entertain others with surprising and often quirky facts.
URL:https://www.visitlibby.org/event/trivia-night-at-rwbs/2026-01-15/
LOCATION:Red\, White\, & Brews
CATEGORIES:Entertainment
ATTACH;FMTTYPE=image/png:https://www.visitlibby.org/wp-content/uploads/2025/04/rwb-MT-logo-e1743116515917-3uF6Z3.tmp_-e1760132675615.png
END:VEVENT
BEGIN:VEVENT
DTSTART;TZID=UTC:20260120T180000
DTEND;TZID=UTC:20260120T193000
DTSTAMP:20260420T085247
CREATED:20251007T212151Z
LAST-MODIFIED:20251007T212151Z
UID:10000653-1768932000-1768937400@www.visitlibby.org
SUMMARY:Taproom Trivia at the Brewery
DESCRIPTION:Test your knowledge of the mundane while enjoying handcrafted beer in Libby’s living room. Nightly and season-ending prizes.  Teams of 1-5. \nIt’s the best thing going on Tuesday night!
URL:https://www.visitlibby.org/event/taproom-trivia-at-the-brewery/2026-01-20/
LOCATION:Cabinet Mountain Brewing\, 2 Ave C\, Libby\, MT\, United States
CATEGORIES:Entertainment
ATTACH;FMTTYPE=image/png:https://www.visitlibby.org/wp-content/uploads/2025/05/cabinetmt-bn9Zku.tmp_.png
GEO:48.390406;-115.577054
X-APPLE-STRUCTURED-LOCATION;VALUE=URI;X-ADDRESS=Cabinet Mountain Brewing 2 Ave C Libby MT United States;X-APPLE-RADIUS=500;X-TITLE=2 Ave C:geo:-115.577054,48.390406
END:VEVENT
BEGIN:VEVENT
DTSTART;TZID=UTC:20260122T190000
DTEND;TZID=UTC:20260122T210000
DTSTAMP:20260420T085247
CREATED:20251010T215644Z
LAST-MODIFIED:20251010T215644Z
UID:10000748-1769108400-1769115600@www.visitlibby.org
SUMMARY:Trivia Night at RWBs
DESCRIPTION:Join the Brews Crew Thursdays for an interesting\, obscure\, or little-known facts and information\, fun filled quiz. Our Trivia can cover a wide range of topics\, such as history\, science\, sports\, music\, movies\, literature\, and more. It’s a fun way to learn new things\, challenge oneself\, or entertain others with surprising and often quirky facts.
URL:https://www.visitlibby.org/event/trivia-night-at-rwbs/2026-01-22/
LOCATION:Red\, White\, & Brews
CATEGORIES:Entertainment
ATTACH;FMTTYPE=image/png:https://www.visitlibby.org/wp-content/uploads/2025/04/rwb-MT-logo-e1743116515917-3uF6Z3.tmp_-e1760132675615.png
END:VEVENT
END:VCALENDAR