BEGIN:VCALENDAR
VERSION:2.0
PRODID:-//Visit Libby - ECPv6.15.20//NONSGML v1.0//EN
CALSCALE:GREGORIAN
METHOD:PUBLISH
X-ORIGINAL-URL:https://www.visitlibby.org
X-WR-CALDESC:Events for Visit Libby
REFRESH-INTERVAL;VALUE=DURATION:PT1H
X-Robots-Tag:noindex
X-PUBLISHED-TTL:PT1H
BEGIN:VTIMEZONE
TZID:America/Denver
BEGIN:DAYLIGHT
TZOFFSETFROM:-0700
TZOFFSETTO:-0600
TZNAME:MDT
DTSTART:20240310T090000
END:DAYLIGHT
BEGIN:STANDARD
TZOFFSETFROM:-0600
TZOFFSETTO:-0700
TZNAME:MST
DTSTART:20241103T080000
END:STANDARD
BEGIN:DAYLIGHT
TZOFFSETFROM:-0700
TZOFFSETTO:-0600
TZNAME:MDT
DTSTART:20250309T090000
END:DAYLIGHT
BEGIN:STANDARD
TZOFFSETFROM:-0600
TZOFFSETTO:-0700
TZNAME:MST
DTSTART:20251102T080000
END:STANDARD
BEGIN:DAYLIGHT
TZOFFSETFROM:-0700
TZOFFSETTO:-0600
TZNAME:MDT
DTSTART:20260308T090000
END:DAYLIGHT
BEGIN:STANDARD
TZOFFSETFROM:-0600
TZOFFSETTO:-0700
TZNAME:MST
DTSTART:20261101T080000
END:STANDARD
END:VTIMEZONE
BEGIN:VTIMEZONE
TZID:UTC
BEGIN:STANDARD
TZOFFSETFROM:+0000
TZOFFSETTO:+0000
TZNAME:UTC
DTSTART:20240101T000000
END:STANDARD
END:VTIMEZONE
BEGIN:VEVENT
DTSTART;TZID=America/Denver:20250911T150000
DTEND;TZID=America/Denver:20250911T183000
DTSTAMP:20260425T115440
CREATED:20250627T120039Z
LAST-MODIFIED:20250627T121013Z
UID:10000135-1757602800-1757615400@www.visitlibby.org
SUMMARY:The Farmers Market at Libby
DESCRIPTION:The Farmers Market at Libby provides a place for local farmers\, artists\, and craftspeople to connect directly with consumers; AND enhances the quality of life in the Libby area by providing a community activity that fosters social gathering and interaction.
URL:https://www.visitlibby.org/event/the-farmers-market-at-libby-30/
LOCATION:700 Idaho Ave. Libby MT 59923
CATEGORIES:Entertainment,Sale
END:VEVENT
BEGIN:VEVENT
DTSTART;TZID=UTC:20250911T180000
DTEND;TZID=UTC:20250911T200000
DTSTAMP:20260425T115440
CREATED:20250820T215444Z
LAST-MODIFIED:20250820T220116Z
UID:10000232-1757613600-1757620800@www.visitlibby.org
SUMMARY:Libby Nights
DESCRIPTION:Downtown Libby is bringing back community connection with a brand-new monthly event series on Mineral Avenue! Join us for Libby Nights\, held the second Thursday of each month from June through November 2025. This family-friendly evening highlights our local businesses and offers residents a fun reason to gather downtown.
URL:https://www.visitlibby.org/event/libby-nights/
LOCATION:Downtown Libby – Mineral Avenue\, Libby\, MT\, United States
CATEGORIES:Entertainment,Sale
ATTACH;FMTTYPE=image/jpeg:https://www.visitlibby.org/wp-content/uploads/2025/08/511388616_122109195284907404_6623566980884319477_n-e1755726852899.jpg
GEO:48.388933;-115.444786
END:VEVENT
BEGIN:VEVENT
DTSTART;TZID=UTC:20250911T190000
DTEND;TZID=UTC:20250911T210000
DTSTAMP:20260425T115440
CREATED:20250903T220714Z
LAST-MODIFIED:20250903T220714Z
UID:10000249-1757617200-1757624400@www.visitlibby.org
SUMMARY:The True Story of Three Little Pigs
DESCRIPTION:Kootenai Karacters presents: The True Story of the Three Little Pigs\, September 11\, 12\, & 13 at 7pm. Admission is $12 at the door\, children 5 and under free.
URL:https://www.visitlibby.org/event/the-true-story-of-three-little-pigs/2025-09-11/
LOCATION:W. K. Maki Theater\, 724 Louisiana Ave.\, Libby\, MT\, 59923
CATEGORIES:Entertainment
END:VEVENT
END:VCALENDAR