BEGIN:VCALENDAR
VERSION:2.0
PRODID:-//Visit Libby - ECPv6.15.20//NONSGML v1.0//EN
CALSCALE:GREGORIAN
METHOD:PUBLISH
X-WR-CALNAME:Visit Libby
X-ORIGINAL-URL:https://www.visitlibby.org
X-WR-CALDESC:Events for Visit Libby
REFRESH-INTERVAL;VALUE=DURATION:PT1H
X-Robots-Tag:noindex
X-PUBLISHED-TTL:PT1H
BEGIN:VTIMEZONE
TZID:America/Denver
BEGIN:DAYLIGHT
TZOFFSETFROM:-0700
TZOFFSETTO:-0600
TZNAME:MDT
DTSTART:20240310T090000
END:DAYLIGHT
BEGIN:STANDARD
TZOFFSETFROM:-0600
TZOFFSETTO:-0700
TZNAME:MST
DTSTART:20241103T080000
END:STANDARD
BEGIN:DAYLIGHT
TZOFFSETFROM:-0700
TZOFFSETTO:-0600
TZNAME:MDT
DTSTART:20250309T090000
END:DAYLIGHT
BEGIN:STANDARD
TZOFFSETFROM:-0600
TZOFFSETTO:-0700
TZNAME:MST
DTSTART:20251102T080000
END:STANDARD
BEGIN:DAYLIGHT
TZOFFSETFROM:-0700
TZOFFSETTO:-0600
TZNAME:MDT
DTSTART:20260308T090000
END:DAYLIGHT
BEGIN:STANDARD
TZOFFSETFROM:-0600
TZOFFSETTO:-0700
TZNAME:MST
DTSTART:20261101T080000
END:STANDARD
END:VTIMEZONE
BEGIN:VEVENT
DTSTART;VALUE=DATE:20250904
DTEND;VALUE=DATE:20250908
DTSTAMP:20260420T054546
CREATED:20250620T034730Z
LAST-MODIFIED:20250627T121011Z
UID:10000119-1756944000-1757289599@www.visitlibby.org
SUMMARY:Clash of the Carvers
DESCRIPTION:The Clash of the Carvers is an International Chainsaw Carving Championship that hosts 20 carving artists for four whole days. Artists start with a bare log on Thursday at 8am.\nLocals and tourists are invited to come watch these artists put their blood\, sweat\, and tears into their craft… and make sure to come back on Sunday at 2pm to see who takes the grand prize!\nGet a break from all the buzz down at the brand new (and free) Loggin’ Littles Carnival at the end of Mineral Ave(Depot Park)! You’ll be able to find a shady place to eat\, throw some axes\, shop local.. and you can even cool off by volunteering to be dunked in our dunk tank!\nClap along to some live local bands at The Keep during lunch\, and have yourself a blast! Clash of the Carvers is one of the biggest events in Lincoln County\, so stop in and get your wallets ready\, because this event has carved a spot in our hearts forever!\nIn loving memory of Paul Bunn\nSee the full schedule here.
URL:https://www.visitlibby.org/event/clash-of-the-carvers/
LOCATION:Downtown Libby – Mineral Avenue\, Libby\, MT\, United States
CATEGORIES:Entertainment,Festivals & Celebrations
ATTACH;FMTTYPE=image/jpeg:https://www.visitlibby.org/wp-content/uploads/2025/06/481284937_1136052421649432_8002302141655935937_n-e1741297893424-1HUEC9.tmp_.jpg
GEO:48.388933;-115.444786
END:VEVENT
BEGIN:VEVENT
DTSTART;VALUE=DATE:20250904
DTEND;VALUE=DATE:20250908
DTSTAMP:20260420T054546
CREATED:20250622T101252Z
LAST-MODIFIED:20250627T121011Z
UID:10000123-1756944000-1757289599@www.visitlibby.org
SUMMARY:Loggin' Littles Carnival
DESCRIPTION:Come join us at the BRAND NEW Loggin’ Littles Carnival\, in conjunction with the Clash of the Carvers international chainsaw carving competition!\nActivities:Kid-Safe Axe ThrowingSoap Carving WorkshopBounce HouseDunk TankYard GamesSplash PadBubble Machine\nFood:Wood-Fired PizzaHot DogsIce CreamFunnel CakesKombuchaKettle Corn\nIf you are interested in contributing to this event\, please email kootenaicountrymontana+carnival@gmail.com
URL:https://www.visitlibby.org/event/loggin-littles-carnival/
LOCATION:Mineral Park\, 100 Mineral Ave\, Libby\, MT\, United States
CATEGORIES:Entertainment,Festivals & Celebrations
ATTACH;FMTTYPE=image/jpeg:https://www.visitlibby.org/wp-content/uploads/2025/06/482218206_1136051658316175_9084003256831871980_n-e1741298444863-tgmAP5.tmp_.jpg
GEO:48.394264;-115.550031
X-APPLE-STRUCTURED-LOCATION;VALUE=URI;X-ADDRESS=Mineral Park 100 Mineral Ave Libby MT United States;X-APPLE-RADIUS=500;X-TITLE=100 Mineral Ave:geo:-115.550031,48.394264
END:VEVENT
BEGIN:VEVENT
DTSTART;TZID=America/Denver:20250904T150000
DTEND;TZID=America/Denver:20250904T183000
DTSTAMP:20260420T054546
CREATED:20250622T101253Z
LAST-MODIFIED:20250627T121011Z
UID:10000124-1756998000-1757010600@www.visitlibby.org
SUMMARY:The Farmers Market at Libby
DESCRIPTION:The Farmers Market at Libby provides a place for local farmers\, artists\, and craftspeople to connect directly with consumers; AND enhances the quality of life in the Libby area by providing a community activity that fosters social gathering and interaction.
URL:https://www.visitlibby.org/event/the-farmers-market-at-libby-28/
LOCATION:700 Idaho Ave. Libby MT 59923
CATEGORIES:Entertainment,Sale
END:VEVENT
END:VCALENDAR