BEGIN:VCALENDAR
VERSION:2.0
PRODID:-//Visit Libby - ECPv6.15.20//NONSGML v1.0//EN
CALSCALE:GREGORIAN
METHOD:PUBLISH
X-ORIGINAL-URL:https://www.visitlibby.org
X-WR-CALDESC:Events for Visit Libby
REFRESH-INTERVAL;VALUE=DURATION:PT1H
X-Robots-Tag:noindex
X-PUBLISHED-TTL:PT1H
BEGIN:VTIMEZONE
TZID:UTC
BEGIN:STANDARD
TZOFFSETFROM:+0000
TZOFFSETTO:+0000
TZNAME:UTC
DTSTART:20240101T000000
END:STANDARD
END:VTIMEZONE
BEGIN:VEVENT
DTSTART;TZID=UTC:20250827T180000
DTEND;TZID=UTC:20250827T210000
DTSTAMP:20260420T054658
CREATED:20250801T214339Z
LAST-MODIFIED:20250801T214339Z
UID:10000186-1756317600-1756328400@www.visitlibby.org
SUMMARY:Wednesdays are for Women and Wine
DESCRIPTION:6:00 pm – 9:00 pm\n\n\n\n\nWomen! Join us at Cabinet Mountain Brewing for every week for 15% of a meal\, sip on the latest wines or try a flight.
URL:https://www.visitlibby.org/event/wednesdays-are-for-women-and-wine-4/
LOCATION:Cabinet Mountain Brewing\, Co.\, 206 Mineral Ave.\, Libby\, MT\, 59923\, United States
CATEGORIES:Entertainment
END:VEVENT
BEGIN:VEVENT
DTSTART;TZID=UTC:20250827T180000
DTEND;TZID=UTC:20250827T210000
DTSTAMP:20260420T054658
CREATED:20250820T220512Z
LAST-MODIFIED:20250820T220512Z
UID:10000248-1756317600-1756328400@www.visitlibby.org
SUMMARY:Billy Powell live at the Brewery!
DESCRIPTION:Enjoy a night of live music with Billy Powell at Cabinet Mountain Brewing. Relax with a craft brew and great tunes in the heart of downtown Libby.
URL:https://www.visitlibby.org/event/billy-powell-live-at-the-brewery/
LOCATION:Cabinet Mountain Brewing\, Co.\, 206 Mineral Ave.\, Libby\, MT\, 59923\, United States
CATEGORIES:Entertainment
ATTACH;FMTTYPE=image/png:https://www.visitlibby.org/wp-content/uploads/2025/05/cabinetmt-bn9Zku.tmp_.png
END:VEVENT
END:VCALENDAR