BEGIN:VCALENDAR
VERSION:2.0
PRODID:-//Visit Libby - ECPv6.15.20//NONSGML v1.0//EN
CALSCALE:GREGORIAN
METHOD:PUBLISH
X-WR-CALNAME:Visit Libby
X-ORIGINAL-URL:https://www.visitlibby.org
X-WR-CALDESC:Events for Visit Libby
REFRESH-INTERVAL;VALUE=DURATION:PT1H
X-Robots-Tag:noindex
X-PUBLISHED-TTL:PT1H
BEGIN:VTIMEZONE
TZID:UTC
BEGIN:STANDARD
TZOFFSETFROM:+0000
TZOFFSETTO:+0000
TZNAME:UTC
DTSTART:20240101T000000
END:STANDARD
END:VTIMEZONE
BEGIN:VEVENT
DTSTART;TZID=UTC:20250820T170000
DTEND;TZID=UTC:20250820T200000
DTSTAMP:20260420T070159
CREATED:20250819T193955Z
LAST-MODIFIED:20250819T211720Z
UID:10000211-1755709200-1755720000@www.visitlibby.org
SUMMARY:Bite into Montana: Red\, White\, & Brews BBQ Bash
DESCRIPTION:Get your crew and lets let out a tune! Enjoy a full menu featuring hot dogs\, chili dogs\, hamburgers\, cheeseburgers\, chips\, huckleberry lemonade\, snow cones\, and the taste of Montana bison burgers! \nVisit the Food for Thought food tent for more delicious offerings!
URL:https://www.visitlibby.org/event/bite-into-montana-red-white-brews-bbq-bash/
LOCATION:Red\, White\, & Brews
CATEGORIES:Entertainment,Festivals & Celebrations
ATTACH;FMTTYPE=image/png:https://www.visitlibby.org/wp-content/uploads/2025/04/rwb-MT-logo-e1743116515917-3uF6Z3.tmp_-e1760132675615.png
END:VEVENT
BEGIN:VEVENT
DTSTART;TZID=UTC:20250820T180000
DTEND;TZID=UTC:20250820T210000
DTSTAMP:20260420T070159
CREATED:20250801T214237Z
LAST-MODIFIED:20250801T214237Z
UID:10000185-1755712800-1755723600@www.visitlibby.org
SUMMARY:Wednesdays are for Women and Wine
DESCRIPTION:6:00 pm – 9:00 pm\n\n\n\n\nWomen! Join us at Cabinet Mountain Brewing for every week for 15% of a meal\, sip on the latest wines or try a flight.
URL:https://www.visitlibby.org/event/wednesdays-are-for-women-and-wine-3/
LOCATION:Cabinet Mountain Brewing\, Co.\, 206 Mineral Ave.\, Libby\, MT\, 59923\, United States
CATEGORIES:Entertainment
END:VEVENT
END:VCALENDAR