BEGIN:VCALENDAR
VERSION:2.0
PRODID:-//Visit Libby - ECPv6.15.20//NONSGML v1.0//EN
CALSCALE:GREGORIAN
METHOD:PUBLISH
X-ORIGINAL-URL:https://www.visitlibby.org
X-WR-CALDESC:Events for Visit Libby
REFRESH-INTERVAL;VALUE=DURATION:PT1H
X-Robots-Tag:noindex
X-PUBLISHED-TTL:PT1H
BEGIN:VTIMEZONE
TZID:UTC
BEGIN:STANDARD
TZOFFSETFROM:+0000
TZOFFSETTO:+0000
TZNAME:UTC
DTSTART:20240101T000000
END:STANDARD
END:VTIMEZONE
BEGIN:VEVENT
DTSTART;TZID=UTC:20250819T080000
DTEND;TZID=UTC:20250819T170000
DTSTAMP:20260422T115608
CREATED:20250819T220127Z
LAST-MODIFIED:20250819T220127Z
UID:10000220-1755590400-1755622800@www.visitlibby.org
SUMMARY:T. Buckley Live!
DESCRIPTION:Award-winning songwriter T. Buckley is a rare breed—a true craftsman whose work echoes the golden era of storytelling in music. Rooted in the West and shaped by the spirit of the ’60s Laurel Canyon and New York café scenes\, his songs are rich with detail\, empathy\, and heart. \nWith a voice as warm and inviting as honey\, Buckley brings each story to life\, earning him spots on major festival stages and showcase lineups across North America. His latest album\, “Frame by Frame\,” has garnered critical acclaim\, receiving nominations from the Canadian Folk Music Awards\, Western Canadian Music Awards\, and winning a Calgary Music Award for Best Folk Recording. \nT. Buckley’s music is quietly powerful—genuine\, unhurried\, and lasting. In an age of noise\, he reminds us of the enduring strength of a well-told story.
URL:https://www.visitlibby.org/event/t-buckley-live/
LOCATION:Memorial Event Center\, 111 E Lincoln Blvd\, Libby\, 59923\, United States
CATEGORIES:Entertainment
ATTACH;FMTTYPE=image/jpeg:https://www.visitlibby.org/wp-content/uploads/2025/08/T.-Buckley-e1755640863927.jpg
END:VEVENT
END:VCALENDAR