BEGIN:VCALENDAR
VERSION:2.0
PRODID:-//Visit Libby - ECPv6.15.20//NONSGML v1.0//EN
CALSCALE:GREGORIAN
METHOD:PUBLISH
X-WR-CALNAME:Visit Libby
X-ORIGINAL-URL:https://www.visitlibby.org
X-WR-CALDESC:Events for Visit Libby
REFRESH-INTERVAL;VALUE=DURATION:PT1H
X-Robots-Tag:noindex
X-PUBLISHED-TTL:PT1H
BEGIN:VTIMEZONE
TZID:UTC
BEGIN:STANDARD
TZOFFSETFROM:+0000
TZOFFSETTO:+0000
TZNAME:UTC
DTSTART:20240101T000000
END:STANDARD
END:VTIMEZONE
BEGIN:VEVENT
DTSTART;TZID=UTC:20250712T120000
DTEND;TZID=UTC:20250712T220000
DTSTAMP:20260420T141759
CREATED:20250626T182929Z
LAST-MODIFIED:20250710T194258Z
UID:10000131-1752321600-1752357600@www.visitlibby.org
SUMMARY:Loco Locals live at Roosevelt Park
DESCRIPTION:Elliot Crow (12-2pm)\, Old Hwy 2 (2-4pm)\, Shauney Fisher & the Fisher River Band (4-6pm)\, Jay Snow and the Tone Keepers (6-8pm)\, Area 56 (8-10pm) \nBuy tickets online at 406tix.com
URL:https://www.visitlibby.org/event/loco-locals/
LOCATION:Roosevelt Park | Troy\, MT\, 221 Roosevelt Park\, Ro\, Troy\, MT\, 59935
CATEGORIES:Entertainment
END:VEVENT
END:VCALENDAR