BEGIN:VCALENDAR
VERSION:2.0
PRODID:-//Visit Libby - ECPv6.15.20//NONSGML v1.0//EN
CALSCALE:GREGORIAN
METHOD:PUBLISH
X-ORIGINAL-URL:https://www.visitlibby.org
X-WR-CALDESC:Events for Visit Libby
REFRESH-INTERVAL;VALUE=DURATION:PT1H
X-Robots-Tag:noindex
X-PUBLISHED-TTL:PT1H
BEGIN:VTIMEZONE
TZID:UTC
BEGIN:STANDARD
TZOFFSETFROM:+0000
TZOFFSETTO:+0000
TZNAME:UTC
DTSTART:20240101T000000
END:STANDARD
END:VTIMEZONE
BEGIN:VEVENT
DTSTART;TZID=UTC:20250705T120000
DTEND;TZID=UTC:20250705T170000
DTSTAMP:20260420T155834
CREATED:20250626T184043Z
LAST-MODIFIED:20250626T184043Z
UID:10000133-1751716800-1751734800@www.visitlibby.org
SUMMARY:Hell’s Belles
DESCRIPTION:Live at the Halfway House! Hell’s Belles is a all-female AC/DC tribute band known for their high-energy performances and faithful renditions of the legendary rock band’s greatest hits.
URL:https://www.visitlibby.org/event/hells-belles/
LOCATION:Halfway House Bar & Grill\, 14891 Bull Lake Rd\, Troy\, MT\, 59935\, United States
CATEGORIES:Entertainment
END:VEVENT
END:VCALENDAR