BEGIN:VCALENDAR
VERSION:2.0
PRODID:-//Visit Libby - ECPv6.15.20//NONSGML v1.0//EN
CALSCALE:GREGORIAN
METHOD:PUBLISH
X-WR-CALNAME:Visit Libby
X-ORIGINAL-URL:https://www.visitlibby.org
X-WR-CALDESC:Events for Visit Libby
REFRESH-INTERVAL;VALUE=DURATION:PT1H
X-Robots-Tag:noindex
X-PUBLISHED-TTL:PT1H
BEGIN:VTIMEZONE
TZID:America/Denver
BEGIN:DAYLIGHT
TZOFFSETFROM:-0700
TZOFFSETTO:-0600
TZNAME:MDT
DTSTART:20240310T090000
END:DAYLIGHT
BEGIN:STANDARD
TZOFFSETFROM:-0600
TZOFFSETTO:-0700
TZNAME:MST
DTSTART:20241103T080000
END:STANDARD
BEGIN:DAYLIGHT
TZOFFSETFROM:-0700
TZOFFSETTO:-0600
TZNAME:MDT
DTSTART:20250309T090000
END:DAYLIGHT
BEGIN:STANDARD
TZOFFSETFROM:-0600
TZOFFSETTO:-0700
TZNAME:MST
DTSTART:20251102T080000
END:STANDARD
BEGIN:DAYLIGHT
TZOFFSETFROM:-0700
TZOFFSETTO:-0600
TZNAME:MDT
DTSTART:20260308T090000
END:DAYLIGHT
BEGIN:STANDARD
TZOFFSETFROM:-0600
TZOFFSETTO:-0700
TZNAME:MST
DTSTART:20261101T080000
END:STANDARD
END:VTIMEZONE
BEGIN:VEVENT
DTSTART;VALUE=DATE:20250704
DTEND;VALUE=DATE:20250705
DTSTAMP:20260420T155235
CREATED:20250627T224521Z
LAST-MODIFIED:20250630T192957Z
UID:10000138-1751587200-1751673599@www.visitlibby.org
SUMMARY:Troy’s Old Fashioned 4th of July 2025
DESCRIPTION:8am: Troy Youth Foundation Color Run \n9am: Breakfast at Roosevelt Park Silo \n11am: Parade \nBack to Roosevelt Park for Lunch! (Food vendors\, craft vendors\, games\, music\, beer gardens). \n12-3pm: Cruizers Car Show \n7pm: Music by Hucklebear \nFIREWORKS AT DUSK!
URL:https://www.visitlibby.org/event/troys-old-fashioned-4th-of-july-2025/
LOCATION:Roosevelt Park | Troy\, MT\, 221 Roosevelt Park\, Ro\, Troy\, MT\, 59935
CATEGORIES:Entertainment,Festivals & Celebrations
ATTACH;FMTTYPE=image/jpeg:https://www.visitlibby.org/wp-content/uploads/2025/06/IMG_2269-scaled-litPDo.tmp_.jpg
END:VEVENT
END:VCALENDAR